BEGIN_USGS_DOQ_HEADER *
QUADRANGLE_NAME "TEPUSQUET CANYON" 3.45 or 7.5-min. name*
QUADRANT SE quadrant indicator if cell size = 3.75-minutes*
WEST_LONGITUDE -120 11 15.000 signed deg min sec SDDD MM SS.SSS*
EAST_LONGITUDE -120 7 30.000 signed deg min sec SDDD MM SS.SSS*
NORTH_LATITUDE 34 56 15.000 signed deg min sec SDDD MM SS.SSS*
SOUTH_LATITUDE 34 52 30.000 signed deg min sec SDDD MM SS.SSS*
PRODUCTION_DATE 1996 4 5 yyyy mm dd*
RASTER_ORDER LEFT_RIGHT/TOP_BOTTOM video display order*
BAND_ORGANIZATION "SINGLE FILE" single file or BSQ, or BIL or BIP*
BAND_CONTENT BLACK&WHITE black&white or red green blue*
BITS_PER_PIXEL 8 radiometric resolution*
SAMPLES_AND_LINES 6600 7704 number of columns and rows*
HORIZONTAL_DATUM NAD83 primary horizontal datum*
HORIZONTAL_COORDINATE_SYSTEM UTM *
COORDINATE_ZONE 10 coordinate system zone number*
HORIZONTAL_UNITS METERS coordinate system units*
HORIZONTAL_RESOLUTION 1.00 pixel horiz. ground sample distance*
SECONDARY_HORIZONTAL_DATUM NAD27 secondary horizontal datum*
XY_ORIGIN 756485.000 3870188.000 coord. of upper left pixel pri. datum*
SECONDARY_XY_ORIGIN 756580.000 3869996.000 coord upper left pixel sec datum*
NATION US nation code*
STATE CA state fip code*
NW_QUAD_CORNER_XY 756876.053 3869724.388 XY coords. of pri. NW quad corner*
NE_QUAD_CORNER_XY 762586.053 3869886.823 XY coords. of pri. NE quad corner*
SE_QUAD_CORNER_XY 762785.321 3862952.883 XY coords. of pri. SE quad corner*
SW_QUAD_CORNER_XY 757070.979 3862790.578 XY coords. of pri. SW quad corner*
SECONDARY_NW_QUAD_XY 756881.987 3869527.096 XY coords. - sec. NW quad cor.*
SECONDARY_NE_QUAD_XY 762592.119 3869689.534 XY coords. - sec. NE quad cor.*
SECONDARY_SE_QUAD_XY 762791.382 3862755.784 XY coords. - sec. SE quad cor.*
SECONDARY_SW_QUAD_XY 757076.908 3862593.476 XY coords. - sec. SW quad cor.*
RMSE_XY 4.10 doq horiz. accuracy*
IMAGE_SOURCE "BLACK AND WHITE FILM" b&w, cir, natural color, other*
SOURCE_IMAGE_ID "NAPP 6919 111" source image id*
SOURCE_IMAGE_DATE 1994 5 11 source image date as yyyy mm dd*
SOURCE_DEM_DATE 1996 4 5 source dem date yyyy mm dd*
AGENCY "WESTERN MAPPING CENTER (WMC)" oversight agency*
PRODUCER "USFS" producer/contractor*
PRODUCTION_SYSTEM "DV2.6.1 6/95OV2.4 5/95" production system*
STANDARD_VERSION 1996 12 version of DOQ standard*
METADATA_DATE 1997 6 13 date created or changed, yyyy mm dd*
DATA_FILE_SIZE 50853000 data set size in bytes*
BYTE_COUNT 6600 header byte count* * * * * * * * * * * * * * * * * * * * * * * * * * * * * * * * * * * * * * * *
END_USGS_HEADER *
