BEGIN_USGS_DOQ_HEADER *
QUADRANGLE_NAME "SANTA MARIA" *
QUADRANT SE *
NORTH_LATITUDE 34 56 15.000 *
WEST_LONGITUDE -120 26 15.000 *
SOUTH_LATITUDE 34 52 30.000 *
EAST_LONGITUDE -120 22 30.000 *
PRODUCTION_DATE 1998 10 28 *
RASTER_ORDER LEFT_RIGHT/TOP_BOTTOM *
BAND_ORGANIZATION "SINGLE FILE" *
BAND_CONTENT BLACK&WHITE *
BITS_PER_PIXEL 8 *
SAMPLES_AND_LINES 6630 7710 *
HORIZONTAL_DATUM NAD83 *
HORIZONTAL_COORDINATE_SYSTEM UTM *
COORDINATE_ZONE 10 *
HORIZONTAL_UNITS METERS *
HORIZONTAL_RESOLUTION 1.000 *
SECONDARY_HORIZONTAL_DATUM NAD27 *
XY_ORIGIN 733620.000 3869580.000 *
SECONDARY_XY_ORIGIN 733716.423 3869387.421 *
NATION US *
STATE CA *
NW_QUAD_CORNER_XY 734037.090 3869110.430 *
NE_QUAD_CORNER_XY 739746.680 3869258.553 *
SE_QUAD_CORNER_XY 739928.582 3862325.118 *
SW_QUAD_CORNER_XY 734214.652 3862177.113 *
SECONDARY_NW_QUAD_XY 734042.497 3868913.124 *
SECONDARY_NE_QUAD_XY 739752.219 3869061.251 *
SECONDARY_SE_QUAD_XY 739934.115 3862128.004 *
SECONDARY_SW_QUAD_XY 734220.053 3861979.996 *
RMSE_XY 1.130 *
IMAGE_SOURCE "BLACK AND WHITE FILM" *
SOURCE_IMAGE_ID "NAPP 6921 67" *
SOURCE_IMAGE_DATE 1994 09 03 *
SOURCE_DEM_DATE 1978 01 01 *
AGENCY "WESTERN MAPPING CENTER (WMC)" *
PRODUCER "ANALYTICAL SURVEYS INC." *
PRODUCTION_SYSTEM "ORBIT OR_RECTIFY V.5.2" *
STANDARD_VERSION 1996 12 *
METADATA_DATE 1998 11 10 *
DATA_FILE_SIZE 51123930 *
BYTE_COUNT 6630 * * * * * * * * * * * * * * * * * * * * * * * * * * * * * * * * * * * * * * * *
END_USGS_HEADER *
