BEGIN_USGS_DOQ_HEADER *
QUADRANGLE_NAME "GUADALUPE" *
QUADRANT NE *
NORTH_LATITUDE 35 00 00.000 *
WEST_LONGITUDE -120 33 45.000 *
SOUTH_LATITUDE 34 56 15.000 *
EAST_LONGITUDE -120 30 00.000 *
PRODUCTION_DATE 1998 10 28 *
RASTER_ORDER LEFT_RIGHT/TOP_BOTTOM *
BAND_ORGANIZATION "SINGLE FILE" *
BAND_CONTENT BLACK&WHITE *
BITS_PER_PIXEL 8 *
SAMPLES_AND_LINES 6600 7710 *
HORIZONTAL_DATUM NAD83 *
HORIZONTAL_COORDINATE_SYSTEM UTM *
COORDINATE_ZONE 10 *
HORIZONTAL_UNITS METERS *
HORIZONTAL_RESOLUTION 1.000 *
SECONDARY_HORIZONTAL_DATUM NAD27 *
XY_ORIGIN 722040.000 3876210.000 *
SECONDARY_XY_ORIGIN 722136.624 3876017.291 *
NATION US *
STATE CA *
NW_QUAD_CORNER_XY 722449.048 3875758.057 *
NE_QUAD_CORNER_XY 728154.102 3875899.141 *
SE_QUAD_CORNER_XY 728327.597 3868965.883 *
SW_QUAD_CORNER_XY 722618.197 3868824.911 *
SECONDARY_NW_QUAD_XY 722454.195 3875560.556 *
SECONDARY_NE_QUAD_XY 728159.381 3875701.643 *
SECONDARY_SE_QUAD_XY 728332.871 3868768.573 *
SECONDARY_SW_QUAD_XY 722623.340 3868627.599 *
RMSE_XY 0.893 *
IMAGE_SOURCE "BLACK AND WHITE FILM" *
SOURCE_IMAGE_ID "NAPP 6928 90" *
SOURCE_IMAGE_DATE 1994 09 15 *
SOURCE_DEM_DATE 1978 01 01 *
AGENCY "WESTERN MAPPING CENTER (WMC)" *
PRODUCER "ANALYTICAL SURVEYS INC." *
PRODUCTION_SYSTEM "ORBIT OR_RECTIFY V.5.2" *
STANDARD_VERSION 1996 12 *
METADATA_DATE 1998 11 10 *
DATA_FILE_SIZE 50892600 *
BYTE_COUNT 6600 * * * * * * * * * * * * * * * * * * * * * * * * * * * * * * * * * * * * * * * *
END_USGS_HEADER *
