BEGIN_USGS_DOQ_HEADER *
QUADRANGLE_NAME "OATMAN" *
QUADRANT NW *
WEST_LONGITUDE -114 30 00.000 *
EAST_LONGITUDE -114 26 15.000 *
NORTH_LATITUDE 35 07 30.000 *
SOUTH_LATITUDE 35 03 45.000 *
PRODUCTION_DATE 2001 07 10 *
RASTER_ORDER LEFT_RIGHT/TOP_BOTTOM *
BAND_ORGANIZATION "SINGLE FILE" *
BAND_CONTENT BLACK&WHITE *
BITS_PER_PIXEL 8 *
SAMPLES_AND_LINES 6600 7710 *
HORIZONTAL_DATUM NAD83 *
HORIZONTAL_COORDINATE_SYSTEM UTM *
COORDINATE_ZONE 11 *
HORIZONTAL_UNITS METERS *
HORIZONTAL_RESOLUTION 1.000 *
SECONDARY_HORIZONTAL_DATUM NAD27 *
XY_ORIGIN 727410.000 3890220.000 *
SECONDARY_XY_ORIGIN 727487.844 3890023.907 *
NATION US *
STATE AZ *
NW_QUAD_CORNER_XY 727806.298 3889765.831 *
NE_QUAD_CORNER_XY 733502.732 3889910.723 *
SE_QUAD_CORNER_XY 733681.130 3882977.234 *
SW_QUAD_CORNER_XY 727980.336 3882832.457 *
SECONDARY_NW_QUAD_XY 727811.586 3889567.959 *
SECONDARY_NE_QUAD_XY 733508.153 3889712.853 *
SECONDARY_SE_QUAD_XY 733686.546 3882779.552 *
SECONDARY_SW_QUAD_XY 727985.619 3882634.772 *
RMSE_XY 1.340 *
IMAGE_SOURCE "BLACK AND WHITE FILM" *
SOURCE_IMAGE_ID "NAPP 9896 167" *
SOURCE_IMAGE_DATE 1997 06 28 *
SOURCE_IMAGE_ID "NAPP 9896 165" *
SOURCE_IMAGE_DATE 1997 06 28 *
SOURCE_DEM_DATE 1965 00 00 *
AGENCY "WESTERN MAPPING CENTER (WMC)" *
PRODUCER "SANBORN COLORADO, L.L.C." *
PRODUCTION_SYSTEM "ORBIT OR_RECTIFY V.5.2" *
STANDARD_VERSION 1996 12 *
METADATA_DATE 2001 09 17 *
DATA_FILE_SIZE 50892600 *
BYTE_COUNT 6600 * * * * * * * * * * * * * * * * * * * * * * * * * * * * * * * * * * * * * *
END_USGS_HEADER *
