BEGIN_USGS_DOQ_HEADER *
QUADRANGLE_NAME "DAVIS DAM SE" 3.45 or 7.5-min. name*
QUADRANT NW quadrant indicator if cell size = 3.75-minutes*
WEST_LONGITUDE -114 37 30.000 signed deg min sec SDDD MM SS.SSS*
EAST_LONGITUDE -114 33 45.000 signed deg min sec SDDD MM SS.SSS*
NORTH_LATITUDE 35 7 30.000 signed deg min sec SDDD MM SS.SSS*
SOUTH_LATITUDE 35 3 45.000 signed deg min sec SDDD MM SS.SSS*
PRODUCTION_DATE 1996 5 8 yyyy mm dd*
RASTER_ORDER LEFT_RIGHT/TOP_BOTTOM video display order*
BAND_ORGANIZATION "SINGLE FILE" single file or BSQ, or BIL or BIP*
BAND_CONTENT BLACK&WHITE black&white or red green blue*
BITS_PER_PIXEL 8 radiometric resolution*
SAMPLES_AND_LINES 6540 7676 number of columns and rows*
HORIZONTAL_DATUM NAD83 primary horizontal datum*
HORIZONTAL_COORDINATE_SYSTEM UTM *
COORDINATE_ZONE 11 coordinate system zone number*
HORIZONTAL_UNITS METERS coordinate system units*
HORIZONTAL_RESOLUTION 1.00 pixel horiz. ground sample distance*
SECONDARY_HORIZONTAL_DATUM NAD27 secondary horizontal datum*
XY_ORIGIN 716040.000 3889926.000 coord. of upper left pixel pri. datum*
SECONDARY_XY_ORIGIN 716117.924 3889729.902 coord upper left pixel sec datum*
NATION US nation code*
STATE AZ state fip code*
STATE NV state fip code*
NW_QUAD_CORNER_XY 716413.702 3889486.802 XY coords. of pri. NW quad corner*
NE_QUAD_CORNER_XY 722109.955 3889624.525 XY coords. of pri. NE quad corner*
SE_QUAD_CORNER_XY 722279.634 3882691.262 XY coords. of pri. SE quad corner*
SW_QUAD_CORNER_XY 716579.023 3882553.647 XY coords. of pri. SW quad corner*
SECONDARY_NW_QUAD_XY 716418.726 3889288.923 XY coords. - sec. NW quad cor.*
SECONDARY_NE_QUAD_XY 722115.111 3889426.649 XY coords. - sec. NE quad cor.*
SECONDARY_SE_QUAD_XY 722284.785 3882493.573 XY coords. - sec. SE quad cor.*
SECONDARY_SW_QUAD_XY 716584.042 3882355.955 XY coords. - sec. SW quad cor.*
RMSE_XY 1.90 doq horiz. accuracy*
IMAGE_SOURCE "BLACK AND WHITE FILM" b&w, cir, natural color, other*
SOURCE_IMAGE_ID "NAPP 5305 191" source image id*
SOURCE_IMAGE_DATE 1992 8 26 source image date as yyyy mm dd*
SOURCE_DEM_DATE 1996 5 8 source dem date yyyy mm dd*
AGENCY "WESTERN MAPPING CENTER (WMC)" oversight agency*
PRODUCER "WMC" producer/contractor*
PRODUCTION_SYSTEM "DV2.6.3 10/9OV2.4 5/95" production system*
STANDARD_VERSION 1996 12 version of DOQ standard*
METADATA_DATE 1997 7 1 date created or changed, yyyy mm dd*
DATA_FILE_SIZE 50207580 data set size in bytes*
BYTE_COUNT 6540 header byte count* * * * * * * * * * * * * * * * * * * * * * * * * * * * * * * * * * * * * *
END_USGS_HEADER *
