BEGIN_USGS_DOQ_HEADER *
QUADRANGLE_NAME "WEST OF JUNIPER MINE" 3.45 or 7.5-min. name*
QUADRANT SE quadrant indicator if cell size = 3.75-minutes*
WEST_LONGITUDE -114 56 15.000 signed deg min sec SDDD MM SS.SSS*
EAST_LONGITUDE -114 52 30.000 signed deg min sec SDDD MM SS.SSS*
NORTH_LATITUDE 35 11 15.000 signed deg min sec SDDD MM SS.SSS*
SOUTH_LATITUDE 35 7 30.000 signed deg min sec SDDD MM SS.SSS*
PRODUCTION_DATE 1997 2 25 yyyy mm dd*
RASTER_ORDER LEFT_RIGHT/TOP_BOTTOM video display order*
BAND_ORGANIZATION "SINGLE FILE" single file or BSQ, or BIL or BIP*
BAND_CONTENT BLACK&WHITE black&white or red green blue*
BITS_PER_PIXEL 8 radiometric resolution*
SAMPLES_AND_LINES 6540 7680 number of columns and rows*
HORIZONTAL_DATUM NAD83 primary horizontal datum*
HORIZONTAL_COORDINATE_SYSTEM UTM *
COORDINATE_ZONE 11 coordinate system zone number*
HORIZONTAL_UNITS METERS coordinate system units*
HORIZONTAL_RESOLUTION 1.00 pixel horiz. ground sample distance*
SECONDARY_HORIZONTAL_DATUM NAD27 secondary horizontal datum*
XY_ORIGIN 687390.000 3896220.000 coord. of upper left pixel pri. datum*
SECONDARY_XY_ORIGIN 687468.031 3896023.969 coord upper left pixel sec datum*
NATION US nation code*
STATE CA state fip code*
NW_QUAD_CORNER_XY 687789.947 3895784.645 XY coords. of pri. NW quad corner*
NE_QUAD_CORNER_XY 693481.422 3895904.549 XY coords. of pri. NE quad corner*
SE_QUAD_CORNER_XY 693629.545 3888971.738 XY coords. of pri. SE quad corner*
SW_QUAD_CORNER_XY 687933.708 3888851.928 XY coords. of pri. SW quad corner*
SECONDARY_NW_QUAD_XY 687794.312 3895586.564 XY coords. - sec. NW quad cor.*
SECONDARY_NE_QUAD_XY 693485.920 3895706.472 XY coords. - sec. NE quad cor.*
SECONDARY_SE_QUAD_XY 693634.040 3888773.847 XY coords. - sec. SE quad cor.*
SECONDARY_SW_QUAD_XY 687938.070 3888654.034 XY coords. - sec. SW quad cor.*
RMSE_XY 1.20 doq horiz. accuracy*
IMAGE_SOURCE "BLACK AND WHITE FILM" b&w, cir, natural color, other*
SOURCE_IMAGE_ID "NAPP 6811 245" source image id*
SOURCE_IMAGE_DATE 1994 5 26 source image date as yyyy mm dd*
SOURCE_DEM_DATE 1997 2 25 source dem date yyyy mm dd*
AGENCY "WESTERN MAPPING CENTER (WMC)" oversight agency*
PRODUCER "Analytical Surveys" producer/contractor*
PRODUCTION_SYSTEM "ORBIT OR_RECTIFY V.5.2" production system*
STANDARD_VERSION 1996 12 version of DOQ standard*
METADATA_DATE 1997 11 3 date created or changed, yyyy mm dd*
DATA_FILE_SIZE 50233740 data set size in bytes*
BYTE_COUNT 6540 header byte count* * * * * * * * * * * * * * * * * * * * * * * * * * * * * * * * * * * * * * *
END_USGS_HEADER *
