BEGIN_USGS_DOQ_HEADER *
QUADRANGLE_NAME "SPIRIT MOUNTAIN" 3.45 or 7.5-min. name*
QUADRANT SE quadrant indicator if cell size = 3.75-minutes*
WEST_LONGITUDE -114 41 15.000 signed deg min sec SDDD MM SS.SSS*
EAST_LONGITUDE -114 37 30.000 signed deg min sec SDDD MM SS.SSS*
NORTH_LATITUDE 35 18 45.000 signed deg min sec SDDD MM SS.SSS*
SOUTH_LATITUDE 35 15 0.000 signed deg min sec SDDD MM SS.SSS*
PRODUCTION_DATE 1996 1 25 yyyy mm dd*
RASTER_ORDER LEFT_RIGHT/TOP_BOTTOM video display order*
BAND_ORGANIZATION "SINGLE FILE" single file or BSQ, or BIL or BIP*
BAND_CONTENT BLACK&WHITE black&white or red green blue*
BITS_PER_PIXEL 8 radiometric resolution*
SAMPLES_AND_LINES 6524 7673 number of columns and rows*
HORIZONTAL_DATUM NAD83 primary horizontal datum*
HORIZONTAL_COORDINATE_SYSTEM UTM *
COORDINATE_ZONE 11 coordinate system zone number*
HORIZONTAL_UNITS METERS coordinate system units*
HORIZONTAL_RESOLUTION 1.00 pixel horiz. ground sample distance*
SECONDARY_HORIZONTAL_DATUM NAD27 secondary horizontal datum*
XY_ORIGIN 709860.000 3910588.000 coord. of upper left pixel pri. datum*
SECONDARY_XY_ORIGIN 709937.952 3910391.723 coord upper left pixel sec datum*
NATION US nation code*
STATE NV state fip code*
NW_QUAD_CORNER_XY 710233.142 3910152.169 XY coords. of pri. NW quad corner*
NE_QUAD_CORNER_XY 715916.193 3910286.622 XY coords. of pri. NE quad corner*
SE_QUAD_CORNER_XY 716082.287 3903353.289 XY coords. of pri. SE quad corner*
SW_QUAD_CORNER_XY 710394.846 3903218.940 XY coords. of pri. SW quad corner*
SECONDARY_NW_QUAD_XY 710238.046 3909953.731 XY coords. - sec. NW quad cor.*
SECONDARY_NE_QUAD_XY 715921.230 3910088.186 XY coords. - sec. NE quad cor.*
SECONDARY_SE_QUAD_XY 716087.320 3903155.038 XY coords. - sec. SE quad cor.*
SECONDARY_SW_QUAD_XY 710399.745 3903020.686 XY coords. - sec. SW quad cor.*
RMSE_XY 1.90 doq horiz. accuracy*
IMAGE_SOURCE "BLACK AND WHITE FILM" b&w, cir, natural color, other*
SOURCE_IMAGE_ID "NAPP 2684 032" source image id*
SOURCE_IMAGE_DATE 1990 4 25 source image date as yyyy mm dd*
SOURCE_DEM_DATE 1996 1 25 source dem date yyyy mm dd*
AGENCY "WESTERN MAPPING CENTER (WMC)" oversight agency*
PRODUCER "WMC" producer/contractor*
PRODUCTION_SYSTEM "DV2.6.3 10/9OV2.4 5/95" production system*
STANDARD_VERSION 1996 12 version of DOQ standard*
METADATA_DATE 1997 7 3 date created or changed, yyyy mm dd*
DATA_FILE_SIZE 50065176 data set size in bytes*
BYTE_COUNT 6524 header byte count* * * * * * * * * * * * * * * * * * * * * * * * * * * * * * * * * * * * * * *
END_USGS_HEADER *
