BEGIN_USGS_DOQ_HEADER *
QUADRANGLE_NAME "TENMILE WELL" 3.45 or 7.5-min. name*
QUADRANT SW quadrant indicator if cell size = 3.75-minutes*
WEST_LONGITUDE -115 0 0.000 signed deg min sec SDDD MM SS.SSS*
EAST_LONGITUDE -114 56 15.000 signed deg min sec SDDD MM SS.SSS*
NORTH_LATITUDE 35 18 45.000 signed deg min sec SDDD MM SS.SSS*
SOUTH_LATITUDE 35 15 0.000 signed deg min sec SDDD MM SS.SSS*
PRODUCTION_DATE 1997 2 25 yyyy mm dd*
RASTER_ORDER LEFT_RIGHT/TOP_BOTTOM video display order*
BAND_ORGANIZATION "SINGLE FILE" single file or BSQ, or BIL or BIP*
BAND_CONTENT BLACK&WHITE black&white or red green blue*
BITS_PER_PIXEL 8 radiometric resolution*
SAMPLES_AND_LINES 6540 7680 number of columns and rows*
HORIZONTAL_DATUM NAD83 primary horizontal datum*
HORIZONTAL_COORDINATE_SYSTEM UTM *
COORDINATE_ZONE 11 coordinate system zone number*
HORIZONTAL_UNITS METERS coordinate system units*
HORIZONTAL_RESOLUTION 1.00 pixel horiz. ground sample distance*
SECONDARY_HORIZONTAL_DATUM NAD27 secondary horizontal datum*
XY_ORIGIN 681420.000 3909960.000 coord. of upper left pixel pri. datum*
SECONDARY_XY_ORIGIN 681498.056 3909763.875 coord upper left pixel sec datum*
NATION US nation code*
STATE NV state fip code*
STATE CA state fip code*
NW_QUAD_CORNER_XY 681819.097 3909533.764 XY coords. of pri. NW quad corner*
NE_QUAD_CORNER_XY 687501.753 3909650.266 XY coords. of pri. NE quad corner*
SE_QUAD_CORNER_XY 687645.961 3902717.424 XY coords. of pri. SE quad corner*
SW_QUAD_CORNER_XY 681958.931 3902601.013 XY coords. of pri. SW quad corner*
SECONDARY_NW_QUAD_XY 681823.338 3909335.312 XY coords. - sec. NW quad cor.*
SECONDARY_NE_QUAD_XY 687506.126 3909451.816 XY coords. - sec. NE quad cor.*
SECONDARY_SE_QUAD_XY 687650.331 3902519.158 XY coords. - sec. SE quad cor.*
SECONDARY_SW_QUAD_XY 681963.168 3902402.744 XY coords. - sec. SW quad cor.*
RMSE_XY 2.20 doq horiz. accuracy*
IMAGE_SOURCE "BLACK AND WHITE FILM" b&w, cir, natural color, other*
SOURCE_IMAGE_ID "NAPP 6812 113" source image id*
SOURCE_IMAGE_DATE 1994 5 29 source image date as yyyy mm dd*
SOURCE_DEM_DATE 1997 2 25 source dem date yyyy mm dd*
AGENCY "WESTERN MAPPING CENTER (WMC)" oversight agency*
PRODUCER "Analytical Surveys" producer/contractor*
PRODUCTION_SYSTEM "ORBIT OR_RECTIFY V.5.2" production system*
STANDARD_VERSION 1996 12 version of DOQ standard*
METADATA_DATE 1997 11 3 date created or changed, yyyy mm dd*
DATA_FILE_SIZE 50233740 data set size in bytes*
BYTE_COUNT 6540 header byte count* * * * * * * * * * * * * * * * * * * * * * * * * * * * * * * * * * * * * *
END_USGS_HEADER *
