BEGIN_USGS_DOQ_HEADER *
QUADRANGLE_NAME "SPIRIT MOUNTAIN NE" 3.45 or 7.5-min. name*
QUADRANT SE quadrant indicator if cell size = 3.75-minutes*
WEST_LONGITUDE -114 33 45.000 signed deg min sec SDDD MM SS.SSS*
EAST_LONGITUDE -114 30 0.000 signed deg min sec SDDD MM SS.SSS*
NORTH_LATITUDE 35 26 15.000 signed deg min sec SDDD MM SS.SSS*
SOUTH_LATITUDE 35 22 30.000 signed deg min sec SDDD MM SS.SSS*
PRODUCTION_DATE 1996 1 11 yyyy mm dd*
RASTER_ORDER LEFT_RIGHT/TOP_BOTTOM video display order*
BAND_ORGANIZATION "SINGLE FILE" single file or BSQ, or BIL or BIP*
BAND_CONTENT BLACK&WHITE black&white or red green blue*
BITS_PER_PIXEL 8 radiometric resolution*
SAMPLES_AND_LINES 6524 7681 number of columns and rows*
HORIZONTAL_DATUM NAD83 primary horizontal datum*
HORIZONTAL_COORDINATE_SYSTEM UTM *
COORDINATE_ZONE 11 coordinate system zone number*
HORIZONTAL_UNITS METERS coordinate system units*
HORIZONTAL_RESOLUTION 1.00 pixel horiz. ground sample distance*
SECONDARY_HORIZONTAL_DATUM NAD27 secondary horizontal datum*
XY_ORIGIN 720884.000 3924735.000 coord. of upper left pixel pri. datum*
SECONDARY_XY_ORIGIN 720961.000 3924539.000 coord upper left pixel sec datum*
NATION US nation code*
STATE AZ state fip code*
NW_QUAD_CORNER_XY 721257.592 3924291.721 XY coords. of pri. NW quad corner*
NE_QUAD_CORNER_XY 726932.037 3924433.574 XY coords. of pri. NE quad corner*
SE_QUAD_CORNER_XY 727107.431 3917499.909 XY coords. of pri. SE quad corner*
SW_QUAD_CORNER_XY 721428.593 3917358.164 XY coords. of pri. SW quad corner*
SECONDARY_NW_QUAD_XY 721262.770 3924092.922 XY coords. - sec. NW quad cor.*
SECONDARY_NE_QUAD_XY 726937.349 3924234.778 XY coords. - sec. NE quad cor.*
SECONDARY_SE_QUAD_XY 727112.738 3917301.297 XY coords. - sec. SE quad cor.*
SECONDARY_SW_QUAD_XY 721433.767 3917159.548 XY coords. - sec. SW quad cor.*
RMSE_XY 1.80 doq horiz. accuracy*
IMAGE_SOURCE "BLACK AND WHITE FILM" b&w, cir, natural color, other*
SOURCE_IMAGE_ID "NAPP 5308 148" source image id*
SOURCE_IMAGE_DATE 1992 9 4 source image date as yyyy mm dd*
SOURCE_DEM_DATE 1996 1 11 source dem date yyyy mm dd*
AGENCY "WESTERN MAPPING CENTER (WMC)" oversight agency*
PRODUCER "WMC" producer/contractor*
PRODUCTION_SYSTEM "DV2.6.1 6/95OV2.4 5/95" production system*
STANDARD_VERSION 1996 12 version of DOQ standard*
METADATA_DATE 1997 7 4 date created or changed, yyyy mm dd*
DATA_FILE_SIZE 50117368 data set size in bytes*
BYTE_COUNT 6524 header byte count* * * * * * * * * * * * * * * * * * * * * * * * * * * * * * * * * * * * * * *
END_USGS_HEADER *
