BEGIN_USGS_DOQ_HEADER *
QUADRANGLE_NAME "FOURTH OF JULY MOUNTAIN" 3.45 or 7.5-min. name*
QUADRANT NW quadrant indicator if cell size = 3.75-minutes*
WEST_LONGITUDE -114 52 30.000 signed deg min sec SDDD MM SS.SSS*
EAST_LONGITUDE -114 48 45.000 signed deg min sec SDDD MM SS.SSS*
NORTH_LATITUDE 35 30 0.000 signed deg min sec SDDD MM SS.SSS*
SOUTH_LATITUDE 35 26 15.000 signed deg min sec SDDD MM SS.SSS*
PRODUCTION_DATE 1996 5 7 yyyy mm dd*
RASTER_ORDER LEFT_RIGHT/TOP_BOTTOM video display order*
BAND_ORGANIZATION "SINGLE FILE" single file or BSQ, or BIL or BIP*
BAND_CONTENT BLACK&WHITE black&white or red green blue*
BITS_PER_PIXEL 8 radiometric resolution*
SAMPLES_AND_LINES 6500 7662 number of columns and rows*
HORIZONTAL_DATUM NAD83 primary horizontal datum*
HORIZONTAL_COORDINATE_SYSTEM UTM *
COORDINATE_ZONE 11 coordinate system zone number*
HORIZONTAL_UNITS METERS coordinate system units*
HORIZONTAL_RESOLUTION 1.00 pixel horiz. ground sample distance*
SECONDARY_HORIZONTAL_DATUM NAD27 secondary horizontal datum*
XY_ORIGIN 692363.000 3930994.000 coord. of upper left pixel pri. datum*
SECONDARY_XY_ORIGIN 692441.058 3930797.633 coord upper left pixel sec datum*
NATION US nation code*
STATE NV state fip code*
NW_QUAD_CORNER_XY 692737.347 3930569.532 XY coords. of pri. NW quad corner*
NE_QUAD_CORNER_XY 698406.984 3930693.495 XY coords. of pri. NE quad corner*
SE_QUAD_CORNER_XY 698560.656 3923760.281 XY coords. of pri. SE quad corner*
SW_QUAD_CORNER_XY 692886.622 3923636.411 XY coords. of pri. SW quad corner*
SECONDARY_NW_QUAD_XY 692741.865 3930370.535 XY coords. - sec. NW quad cor.*
SECONDARY_NE_QUAD_XY 698411.635 3930494.501 XY coords. - sec. NE quad cor.*
SECONDARY_SE_QUAD_XY 698565.302 3923561.470 XY coords. - sec. SE quad cor.*
SECONDARY_SW_QUAD_XY 692891.114 3923437.597 XY coords. - sec. SW quad cor.*
RMSE_XY 2.00 doq horiz. accuracy*
IMAGE_SOURCE "BLACK AND WHITE FILM" b&w, cir, natural color, other*
SOURCE_IMAGE_ID "NAPP 7251 012" source image id*
SOURCE_IMAGE_DATE 1994 5 22 source image date as yyyy mm dd*
SOURCE_DEM_DATE 1996 5 7 source dem date yyyy mm dd*
AGENCY "WESTERN MAPPING CENTER (WMC)" oversight agency*
PRODUCER "WMC" producer/contractor*
PRODUCTION_SYSTEM "DV2.6.3 10/9OV2.4 5/95" production system*
STANDARD_VERSION 1996 12 version of DOQ standard*
METADATA_DATE 1997 7 19 date created or changed, yyyy mm dd*
DATA_FILE_SIZE 49809500 data set size in bytes*
BYTE_COUNT 6500 header byte count* * * * * * * * * * * * * * * * * * * * * * * * * * * * * * * * * * * * * * *
END_USGS_HEADER *
