BEGIN_USGS_DOQ_HEADER *
QUADRANGLE_NAME "SEARCHLIGHT" 3.45 or 7.5-min. name*
QUADRANT NW quadrant indicator if cell size = 3.75-minutes*
WEST_LONGITUDE -115 0 0.000 signed deg min sec SDDD MM SS.SSS*
EAST_LONGITUDE -114 56 15.000 signed deg min sec SDDD MM SS.SSS*
NORTH_LATITUDE 35 30 0.000 signed deg min sec SDDD MM SS.SSS*
SOUTH_LATITUDE 35 26 15.000 signed deg min sec SDDD MM SS.SSS*
PRODUCTION_DATE 1996 1 9 yyyy mm dd*
RASTER_ORDER LEFT_RIGHT/TOP_BOTTOM video display order*
BAND_ORGANIZATION "SINGLE FILE" single file or BSQ, or BIL or BIP*
BAND_CONTENT BLACK&WHITE black&white or red green blue*
BITS_PER_PIXEL 8 radiometric resolution*
SAMPLES_AND_LINES 6492 7655 number of columns and rows*
HORIZONTAL_DATUM NAD83 primary horizontal datum*
HORIZONTAL_COORDINATE_SYSTEM UTM *
COORDINATE_ZONE 11 coordinate system zone number*
HORIZONTAL_UNITS METERS coordinate system units*
HORIZONTAL_RESOLUTION 1.00 pixel horiz. ground sample distance*
SECONDARY_HORIZONTAL_DATUM NAD27 secondary horizontal datum*
XY_ORIGIN 681023.000 3930750.000 coord. of upper left pixel pri. datum*
SECONDARY_XY_ORIGIN 681101.000 3930554.000 coord upper left pixel sec datum*
NATION US nation code*
STATE NV state fip code*
NW_QUAD_CORNER_XY 681398.297 3930332.399 XY coords. of pri. NW quad corner*
NE_QUAD_CORNER_XY 687067.785 3930449.166 XY coords. of pri. NE quad corner*
SE_QUAD_CORNER_XY 687212.664 3923516.137 XY coords. of pri. SE quad corner*
SW_QUAD_CORNER_XY 681538.780 3923399.458 XY coords. of pri. SW quad corner*
SECONDARY_NW_QUAD_XY 681402.549 3930133.397 XY coords. - sec. NW quad cor.*
SECONDARY_NE_QUAD_XY 687072.170 3930250.167 XY coords. - sec. NE quad cor.*
SECONDARY_SE_QUAD_XY 687217.046 3923317.320 XY coords. - sec. SE quad cor.*
SECONDARY_SW_QUAD_XY 681543.029 3923200.637 XY coords. - sec. SW quad cor.*
RMSE_XY 2.50 doq horiz. accuracy*
IMAGE_SOURCE "BLACK AND WHITE FILM" b&w, cir, natural color, other*
SOURCE_IMAGE_ID "NAPP 2686 186" source image id*
SOURCE_IMAGE_DATE 1994 5 26 source image date as yyyy mm dd*
SOURCE_DEM_DATE 1996 1 9 source dem date yyyy mm dd*
AGENCY "WESTERN MAPPING CENTER (WMC)" oversight agency*
PRODUCER "WMC" producer/contractor*
PRODUCTION_SYSTEM "DV2.6.1 6/95OV2.4 5/95" production system*
STANDARD_VERSION 1996 12 version of DOQ standard*
METADATA_DATE 1997 7 4 date created or changed, yyyy mm dd*
DATA_FILE_SIZE 49702752 data set size in bytes*
BYTE_COUNT 6492 header byte count* * * * * * * * * * * * * * * * * * * * * * * * * * * * * * * * * * * * * * *
END_USGS_HEADER *
