BEGIN_USGS_DOQ_HEADER *
QUADRANGLE_NAME "NELSON SW" 3.45 or 7.5-min. name*
QUADRANT NW quadrant indicator if cell size = 3.75-minutes*
WEST_LONGITUDE -115 0 0.000 signed deg min sec SDDD MM SS.SSS*
EAST_LONGITUDE -114 56 15.000 signed deg min sec SDDD MM SS.SSS*
NORTH_LATITUDE 35 37 30.000 signed deg min sec SDDD MM SS.SSS*
SOUTH_LATITUDE 35 33 45.000 signed deg min sec SDDD MM SS.SSS*
PRODUCTION_DATE 1996 5 6 yyyy mm dd*
RASTER_ORDER LEFT_RIGHT/TOP_BOTTOM video display order*
BAND_ORGANIZATION "SINGLE FILE" single file or BSQ, or BIL or BIP*
BAND_CONTENT BLACK&WHITE black&white or red green blue*
BITS_PER_PIXEL 8 radiometric resolution*
SAMPLES_AND_LINES 6456 7655 number of columns and rows*
HORIZONTAL_DATUM NAD83 primary horizontal datum*
HORIZONTAL_COORDINATE_SYSTEM UTM *
COORDINATE_ZONE 11 coordinate system zone number*
HORIZONTAL_UNITS METERS coordinate system units*
HORIZONTAL_RESOLUTION 1.00 pixel horiz. ground sample distance*
SECONDARY_HORIZONTAL_DATUM NAD27 secondary horizontal datum*
XY_ORIGIN 680767.000 3944616.000 coord. of upper left pixel pri. datum*
SECONDARY_XY_ORIGIN 680845.132 3944419.643 coord upper left pixel sec datum*
NATION US nation code*
STATE NV state fip code*
NW_QUAD_CORNER_XY 681116.680 3944198.470 XY coords. of pri. NW quad corner*
NE_QUAD_CORNER_XY 686777.360 3944315.410 XY coords. of pri. NE quad corner*
SE_QUAD_CORNER_XY 686922.680 3937382.260 XY coords. of pri. SE quad corner*
SW_QUAD_CORNER_XY 681257.590 3937265.400 XY coords. of pri. SW quad corner*
SECONDARY_NW_QUAD_XY 681120.940 3943999.110 XY coords. - sec. NW quad cor.*
SECONDARY_NE_QUAD_XY 686781.750 3944116.050 XY coords. - sec. NE quad cor.*
SECONDARY_SE_QUAD_XY 686927.070 3937183.080 XY coords. - sec. SE quad cor.*
SECONDARY_SW_QUAD_XY 681261.850 3937066.220 XY coords. - sec. SW quad cor.*
RMSE_XY 2.50 doq horiz. accuracy*
IMAGE_SOURCE "BLACK AND WHITE FILM" b&w, cir, natural color, other*
SOURCE_IMAGE_ID "NAPP 2686 190" source image id*
SOURCE_IMAGE_DATE 1990 5 2 source image date as yyyy mm dd*
SOURCE_DEM_DATE 1996 5 6 source dem date yyyy mm dd*
AGENCY "WESTERN MAPPING CENTER (WMC)" oversight agency*
PRODUCER "WMC" producer/contractor*
PRODUCTION_SYSTEM "DV2.6.3 10/9OV2.4 5/95" production system*
STANDARD_VERSION 1996 12 version of DOQ standard*
METADATA_DATE 1997 7 19 date created or changed, yyyy mm dd*
DATA_FILE_SIZE 49427136 data set size in bytes*
BYTE_COUNT 6456 header byte count* * * * * * * * * * * * * * * * * * * * * * * * * * * * * * * * * * * * * *
END_USGS_HEADER *
