BEGIN_USGS_DOQ_HEADER *
QUADRANGLE_NAME "WOODS MOUNTAINS" 3.45 or 7.5-min. name*
QUADRANT SW quadrant indicator if cell size = 3.75-minutes*
WEST_LONGITUDE -115 22 30.000 signed deg min sec SDDD MM SS.SSS*
EAST_LONGITUDE -115 18 45.000 signed deg min sec SDDD MM SS.SSS*
NORTH_LATITUDE 35 3 45.000 signed deg min sec SDDD MM SS.SSS*
SOUTH_LATITUDE 35 0 0.000 signed deg min sec SDDD MM SS.SSS*
PRODUCTION_DATE 1997 3 4 yyyy mm dd*
RASTER_ORDER LEFT_RIGHT/TOP_BOTTOM video display order*
BAND_ORGANIZATION "SINGLE FILE" single file or BSQ, or BIL or BIP*
BAND_CONTENT BLACK&WHITE black&white or red green blue*
BITS_PER_PIXEL 8 radiometric resolution*
SAMPLES_AND_LINES 6510 7650 number of columns and rows*
HORIZONTAL_DATUM NAD83 primary horizontal datum*
HORIZONTAL_COORDINATE_SYSTEM UTM *
COORDINATE_ZONE 11 coordinate system zone number*
HORIZONTAL_UNITS METERS coordinate system units*
HORIZONTAL_RESOLUTION 1.00 pixel horiz. ground sample distance*
SECONDARY_HORIZONTAL_DATUM NAD27 secondary horizontal datum*
XY_ORIGIN 647790.000 3881580.000 coord. of upper left pixel pri. datum*
SECONDARY_XY_ORIGIN 647868.303 3881384.480 coord upper left pixel sec datum*
NATION US nation code*
STATE CA state fip code*
NW_QUAD_CORNER_XY 648177.911 3881181.426 XY coords. of pri. NW quad corner*
NE_QUAD_CORNER_XY 653877.616 3881276.103 XY coords. of pri. NE quad corner*
SE_QUAD_CORNER_XY 653994.847 3874344.021 XY coords. of pri. SE quad corner*
SW_QUAD_CORNER_XY 648290.797 3874249.419 XY coords. of pri. SW quad corner*
SECONDARY_NW_QUAD_XY 648181.345 3880983.702 XY coords. - sec. NW quad cor.*
SECONDARY_NE_QUAD_XY 653881.182 3881078.381 XY coords. - sec. NE quad cor.*
SECONDARY_SE_QUAD_XY 653998.409 3874146.487 XY coords. - sec. SE quad cor.*
SECONDARY_SW_QUAD_XY 648294.227 3874051.883 XY coords. - sec. SW quad cor.*
RMSE_XY 1.30 doq horiz. accuracy*
IMAGE_SOURCE "BLACK AND WHITE FILM" b&w, cir, natural color, other*
SOURCE_IMAGE_ID "NAPP 6807 114" source image id*
SOURCE_IMAGE_DATE 1994 5 23 source image date as yyyy mm dd*
SOURCE_DEM_DATE 1997 3 4 source dem date yyyy mm dd*
AGENCY "WESTERN MAPPING CENTER (WMC)" oversight agency*
PRODUCER "Analytical Surveys" producer/contractor*
PRODUCTION_SYSTEM "ORBIT OR_RECTIFY V.5.2" production system*
STANDARD_VERSION 1996 12 version of DOQ standard*
METADATA_DATE 1997 11 3 date created or changed, yyyy mm dd*
DATA_FILE_SIZE 49808010 data set size in bytes*
BYTE_COUNT 6510 header byte count* * * * * * * * * * * * * * * * * * * * * * * * * * * * * * * * * * * * * * *
END_USGS_HEADER *
