BEGIN_USGS_DOQ_HEADER *
QUADRANGLE_NAME "OLD DAD MOUNTAIN" 3.45 or 7.5-min. name*
QUADRANT NE quadrant indicator if cell size = 3.75-minutes*
WEST_LONGITUDE -115 48 45.000 signed deg min sec SDDD MM SS.SSS*
EAST_LONGITUDE -115 45 0.000 signed deg min sec SDDD MM SS.SSS*
NORTH_LATITUDE 35 7 30.000 signed deg min sec SDDD MM SS.SSS*
SOUTH_LATITUDE 35 3 45.000 signed deg min sec SDDD MM SS.SSS*
PRODUCTION_DATE 1997 2 27 yyyy mm dd*
RASTER_ORDER LEFT_RIGHT/TOP_BOTTOM video display order*
BAND_ORGANIZATION "SINGLE FILE" single file or BSQ, or BIL or BIP*
BAND_CONTENT BLACK&WHITE black&white or red green blue*
BITS_PER_PIXEL 8 radiometric resolution*
SAMPLES_AND_LINES 6510 7650 number of columns and rows*
HORIZONTAL_DATUM NAD83 primary horizontal datum*
HORIZONTAL_COORDINATE_SYSTEM UTM *
COORDINATE_ZONE 11 coordinate system zone number*
HORIZONTAL_UNITS METERS coordinate system units*
HORIZONTAL_RESOLUTION 1.00 pixel horiz. ground sample distance*
SECONDARY_HORIZONTAL_DATUM NAD27 secondary horizontal datum*
XY_ORIGIN 607800.000 3887940.000 coord. of upper left pixel pri. datum*
SECONDARY_XY_ORIGIN 607878.660 3887744.614 coord upper left pixel sec datum*
NATION US nation code*
STATE CA state fip code*
NW_QUAD_CORNER_XY 608198.933 3887550.414 XY coords. of pri. NW quad corner*
NE_QUAD_CORNER_XY 613893.914 3887620.123 XY coords. of pri. NE quad corner*
SE_QUAD_CORNER_XY 613980.870 3880688.440 XY coords. of pri. SE quad corner*
SW_QUAD_CORNER_XY 608281.539 3880618.785 XY coords. of pri. SW quad corner*
SECONDARY_NW_QUAD_XY 608201.443 3887352.490 XY coords. - sec. NW quad cor.*
SECONDARY_NE_QUAD_XY 613896.557 3887422.201 XY coords. - sec. NE quad cor.*
SECONDARY_SE_QUAD_XY 613983.510 3880490.704 XY coords. - sec. SE quad cor.*
SECONDARY_SW_QUAD_XY 608284.048 3880421.048 XY coords. - sec. SW quad cor.*
RMSE_XY 2.20 doq horiz. accuracy*
IMAGE_SOURCE "BLACK AND WHITE FILM" b&w, cir, natural color, other*
SOURCE_IMAGE_ID "NAPP 6824 116" source image id*
SOURCE_IMAGE_DATE 1995 10 2 source image date as yyyy mm dd*
SOURCE_DEM_DATE 1997 2 27 source dem date yyyy mm dd*
AGENCY "WESTERN MAPPING CENTER (WMC)" oversight agency*
PRODUCER "Analytical Surveys" producer/contractor*
PRODUCTION_SYSTEM "ORBIT OR_RECTIFY V.5.2" production system*
STANDARD_VERSION 1996 12 version of DOQ standard*
METADATA_DATE 1997 11 4 date created or changed, yyyy mm dd*
DATA_FILE_SIZE 49808010 data set size in bytes*
BYTE_COUNT 6510 header byte count* * * * * * * * * * * * * * * * * * * * * * * * * * * * * * * * * * * * * * *
END_USGS_HEADER *
