BEGIN_USGS_DOQ_HEADER *
QUADRANGLE_NAME "COWHOLE MOUNTAIN" 3.45 or 7.5-min. name*
QUADRANT NE quadrant indicator if cell size = 3.75-minutes*
WEST_LONGITUDE -115 56 15.000 signed deg min sec SDDD MM SS.SSS*
EAST_LONGITUDE -115 52 30.000 signed deg min sec SDDD MM SS.SSS*
NORTH_LATITUDE 35 7 30.000 signed deg min sec SDDD MM SS.SSS*
SOUTH_LATITUDE 35 3 45.000 signed deg min sec SDDD MM SS.SSS*
PRODUCTION_DATE 1997 2 27 yyyy mm dd*
RASTER_ORDER LEFT_RIGHT/TOP_BOTTOM video display order*
BAND_ORGANIZATION "SINGLE FILE" single file or BSQ, or BIL or BIP*
BAND_CONTENT BLACK&WHITE black&white or red green blue*
BITS_PER_PIXEL 8 radiometric resolution*
SAMPLES_AND_LINES 6480 7620 number of columns and rows*
HORIZONTAL_DATUM NAD83 primary horizontal datum*
HORIZONTAL_COORDINATE_SYSTEM UTM *
COORDINATE_ZONE 11 coordinate system zone number*
HORIZONTAL_UNITS METERS coordinate system units*
HORIZONTAL_RESOLUTION 1.00 pixel horiz. ground sample distance*
SECONDARY_HORIZONTAL_DATUM NAD27 secondary horizontal datum*
XY_ORIGIN 596430.000 3887790.000 coord. of upper left pixel pri. datum*
SECONDARY_XY_ORIGIN 596508.798 3887594.618 coord upper left pixel sec datum*
NATION US nation code*
STATE CA state fip code*
NW_QUAD_CORNER_XY 596809.100 3887421.724 XY coords. of pri. NW quad corner*
NE_QUAD_CORNER_XY 602503.996 3887484.281 XY coords. of pri. NE quad corner*
SE_QUAD_CORNER_XY 602582.252 3880552.704 XY coords. of pri. SE quad corner*
SW_QUAD_CORNER_XY 596883.008 3880490.197 XY coords. of pri. SW quad corner*
SECONDARY_NW_QUAD_XY 596811.347 3887223.797 XY coords. - sec. NW quad cor.*
SECONDARY_NE_QUAD_XY 602506.374 3887286.355 XY coords. - sec. NE quad cor.*
SECONDARY_SE_QUAD_XY 602584.629 3880354.966 XY coords. - sec. SE quad cor.*
SECONDARY_SW_QUAD_XY 596885.252 3880292.457 XY coords. - sec. SW quad cor.*
RMSE_XY 0.90 doq horiz. accuracy*
IMAGE_SOURCE "BLACK AND WHITE FILM" b&w, cir, natural color, other*
SOURCE_IMAGE_ID "NAPP 6826 027" source image id*
SOURCE_IMAGE_DATE 1995 10 4 source image date as yyyy mm dd*
SOURCE_DEM_DATE 1997 2 27 source dem date yyyy mm dd*
AGENCY "WESTERN MAPPING CENTER (WMC)" oversight agency*
PRODUCER "Analytical Surveys" producer/contractor*
PRODUCTION_SYSTEM "ORBIT OR_RECTIFY V.5.2" production system*
STANDARD_VERSION 1996 12 version of DOQ standard*
METADATA_DATE 1997 11 4 date created or changed, yyyy mm dd*
DATA_FILE_SIZE 49384080 data set size in bytes*
BYTE_COUNT 6480 header byte count* * * * * * * * * * * * * * * * * * * * * * * * * * * * * * * * * * * * * *
END_USGS_HEADER *
