BEGIN_USGS_DOQ_HEADER *
QUADRANGLE_NAME "MARL MOUNTAINS" 3.45 or 7.5-min. name*
QUADRANT SE quadrant indicator if cell size = 3.75-minutes*
WEST_LONGITUDE -115 41 15.000 signed deg min sec SDDD MM SS.SSS*
EAST_LONGITUDE -115 37 30.000 signed deg min sec SDDD MM SS.SSS*
NORTH_LATITUDE 35 11 15.000 signed deg min sec SDDD MM SS.SSS*
SOUTH_LATITUDE 35 7 30.000 signed deg min sec SDDD MM SS.SSS*
PRODUCTION_DATE 1997 3 4 yyyy mm dd*
RASTER_ORDER LEFT_RIGHT/TOP_BOTTOM video display order*
BAND_ORGANIZATION "SINGLE FILE" single file or BSQ, or BIL or BIP*
BAND_CONTENT BLACK&WHITE black&white or red green blue*
BITS_PER_PIXEL 8 radiometric resolution*
SAMPLES_AND_LINES 6480 7650 number of columns and rows*
HORIZONTAL_DATUM NAD83 primary horizontal datum*
HORIZONTAL_COORDINATE_SYSTEM UTM *
COORDINATE_ZONE 11 coordinate system zone number*
HORIZONTAL_UNITS METERS coordinate system units*
HORIZONTAL_RESOLUTION 1.00 pixel horiz. ground sample distance*
SECONDARY_HORIZONTAL_DATUM NAD27 secondary horizontal datum*
XY_ORIGIN 619110.000 3895020.000 coord. of upper left pixel pri. datum*
SECONDARY_XY_ORIGIN 619188.546 3894824.493 coord upper left pixel sec datum*
NATION US nation code*
STATE CA state fip code*
NW_QUAD_CORNER_XY 619497.492 3894625.219 XY coords. of pri. NW quad corner*
NE_QUAD_CORNER_XY 625188.210 3894702.142 XY coords. of pri. NE quad corner*
SE_QUAD_CORNER_XY 625284.016 3887770.272 XY coords. of pri. SE quad corner*
SW_QUAD_CORNER_XY 619588.941 3887693.409 XY coords. of pri. SW quad corner*
SECONDARY_NW_QUAD_XY 619500.270 3894427.112 XY coords. - sec. NW quad cor.*
SECONDARY_NE_QUAD_XY 625191.120 3894504.037 XY coords. - sec. NE quad cor.*
SECONDARY_SE_QUAD_XY 625286.924 3887572.353 XY coords. - sec. SE quad cor.*
SECONDARY_SW_QUAD_XY 619591.716 3887495.489 XY coords. - sec. SW quad cor.*
RMSE_XY 1.10 doq horiz. accuracy*
IMAGE_SOURCE "BLACK AND WHITE FILM" b&w, cir, natural color, other*
SOURCE_IMAGE_ID "NAPP 6819 018" source image id*
SOURCE_IMAGE_DATE 1994 6 5 source image date as yyyy mm dd*
SOURCE_DEM_DATE 1997 3 4 source dem date yyyy mm dd*
AGENCY "WESTERN MAPPING CENTER (WMC)" oversight agency*
PRODUCER "Analytical Surveys" producer/contractor*
PRODUCTION_SYSTEM "ORBIT OR_RECTIFY V.5.2" production system*
STANDARD_VERSION 1996 12 version of DOQ standard*
METADATA_DATE 1997 11 3 date created or changed, yyyy mm dd*
DATA_FILE_SIZE 49578480 data set size in bytes*
BYTE_COUNT 6480 header byte count* * * * * * * * * * * * * * * * * * * * * * * * * * * * * * * * * * * * * *
END_USGS_HEADER *
