BEGIN_USGS_DOQ_HEADER *
QUADRANGLE_NAME "CASTLE PEAKS" 3.45 or 7.5-min. name*
QUADRANT NE quadrant indicator if cell size = 3.75-minutes*
WEST_LONGITUDE -115 11 15.000 signed deg min sec SDDD MM SS.SSS*
EAST_LONGITUDE -115 7 30.000 signed deg min sec SDDD MM SS.SSS*
NORTH_LATITUDE 35 22 30.000 signed deg min sec SDDD MM SS.SSS*
SOUTH_LATITUDE 35 18 45.000 signed deg min sec SDDD MM SS.SSS*
PRODUCTION_DATE 1997 2 25 yyyy mm dd*
RASTER_ORDER LEFT_RIGHT/TOP_BOTTOM video display order*
BAND_ORGANIZATION "SINGLE FILE" single file or BSQ, or BIL or BIP*
BAND_CONTENT BLACK&WHITE black&white or red green blue*
BITS_PER_PIXEL 8 radiometric resolution*
SAMPLES_AND_LINES 6510 7680 number of columns and rows*
HORIZONTAL_DATUM NAD83 primary horizontal datum*
HORIZONTAL_COORDINATE_SYSTEM UTM *
COORDINATE_ZONE 11 coordinate system zone number*
HORIZONTAL_UNITS METERS coordinate system units*
HORIZONTAL_RESOLUTION 1.00 pixel horiz. ground sample distance*
SECONDARY_HORIZONTAL_DATUM NAD27 secondary horizontal datum*
XY_ORIGIN 664260.000 3916560.000 coord. of upper left pixel pri. datum*
SECONDARY_XY_ORIGIN 664338.127 3916363.946 coord upper left pixel sec datum*
NATION US nation code*
STATE CA state fip code*
NW_QUAD_CORNER_XY 664644.650 3916138.356 XY coords. of pri. NW quad corner*
NE_QUAD_CORNER_XY 670322.714 3916244.173 XY coords. of pri. NE quad corner*
SE_QUAD_CORNER_XY 670454.001 3909311.529 XY coords. of pri. SE quad corner*
SW_QUAD_CORNER_XY 664771.556 3909205.793 XY coords. of pri. SW quad corner*
SECONDARY_NW_QUAD_XY 664648.496 3915939.712 XY coords. - sec. NW quad cor.*
SECONDARY_NE_QUAD_XY 670326.693 3916045.531 XY coords. - sec. NE quad cor.*
SECONDARY_SE_QUAD_XY 670457.977 3909113.071 XY coords. - sec. SE quad cor.*
SECONDARY_SW_QUAD_XY 664775.400 3909007.333 XY coords. - sec. SW quad cor.*
RMSE_XY 3.60 doq horiz. accuracy*
IMAGE_SOURCE "BLACK AND WHITE FILM" b&w, cir, natural color, other*
SOURCE_IMAGE_ID "NAPP 6807 051" source image id*
SOURCE_IMAGE_DATE 1994 5 23 source image date as yyyy mm dd*
SOURCE_DEM_DATE 1997 2 25 source dem date yyyy mm dd*
AGENCY "WESTERN MAPPING CENTER (WMC)" oversight agency*
PRODUCER "Analytical Surveys" producer/contractor*
PRODUCTION_SYSTEM "ORBIT OR_RECTIFY V.5.2" production system*
STANDARD_VERSION 1996 12 version of DOQ standard*
METADATA_DATE 1997 11 5 date created or changed, yyyy mm dd*
DATA_FILE_SIZE 50003310 data set size in bytes*
BYTE_COUNT 6510 header byte count* * * * * * * * * * * * * * * * * * * * * * * * * * * * * * * * * * * * * * *
END_USGS_HEADER *
