BEGIN_USGS_DOQ_HEADER *
QUADRANGLE_NAME "IVANPAH" 3.45 or 7.5-min. name*
QUADRANT NW quadrant indicator if cell size = 3.75-minutes*
WEST_LONGITUDE -115 22 30.000 signed deg min sec SDDD MM SS.SSS*
EAST_LONGITUDE -115 18 45.000 signed deg min sec SDDD MM SS.SSS*
NORTH_LATITUDE 35 22 30.000 signed deg min sec SDDD MM SS.SSS*
SOUTH_LATITUDE 35 18 45.000 signed deg min sec SDDD MM SS.SSS*
PRODUCTION_DATE 1997 3 4 yyyy mm dd*
RASTER_ORDER LEFT_RIGHT/TOP_BOTTOM video display order*
BAND_ORGANIZATION "SINGLE FILE" single file or BSQ, or BIL or BIP*
BAND_CONTENT BLACK&WHITE black&white or red green blue*
BITS_PER_PIXEL 8 radiometric resolution*
SAMPLES_AND_LINES 6510 7680 number of columns and rows*
HORIZONTAL_DATUM NAD83 primary horizontal datum*
HORIZONTAL_COORDINATE_SYSTEM UTM *
COORDINATE_ZONE 11 coordinate system zone number*
HORIZONTAL_UNITS METERS coordinate system units*
HORIZONTAL_RESOLUTION 1.00 pixel horiz. ground sample distance*
SECONDARY_HORIZONTAL_DATUM NAD27 secondary horizontal datum*
XY_ORIGIN 647220.000 3916260.000 coord. of upper left pixel pri. datum*
SECONDARY_XY_ORIGIN 647298.277 3916064.106 coord upper left pixel sec datum*
NATION US nation code*
STATE CA state fip code*
NW_QUAD_CORNER_XY 647610.839 3915842.449 XY coords. of pri. NW quad corner*
NE_QUAD_CORNER_XY 653288.714 3915937.495 XY coords. of pri. NE quad corner*
SE_QUAD_CORNER_XY 653406.861 3909005.085 XY coords. of pri. SE quad corner*
SW_QUAD_CORNER_XY 647724.606 3908910.112 XY coords. of pri. SW quad corner*
SECONDARY_NW_QUAD_XY 647614.287 3915643.797 XY coords. - sec. NW quad cor.*
SECONDARY_NE_QUAD_XY 653292.295 3915738.846 XY coords. - sec. NE quad cor.*
SECONDARY_SE_QUAD_XY 653410.439 3908806.620 XY coords. - sec. SE quad cor.*
SECONDARY_SW_QUAD_XY 647728.051 3908711.645 XY coords. - sec. SW quad cor.*
RMSE_XY 0.70 doq horiz. accuracy*
IMAGE_SOURCE "BLACK AND WHITE FILM" b&w, cir, natural color, other*
SOURCE_IMAGE_ID "NAPP 6807 104" source image id*
SOURCE_IMAGE_DATE 1994 5 23 source image date as yyyy mm dd*
SOURCE_DEM_DATE 1997 3 4 source dem date yyyy mm dd*
AGENCY "WESTERN MAPPING CENTER (WMC)" oversight agency*
PRODUCER "Analytical Surveys" producer/contractor*
PRODUCTION_SYSTEM "ORBIT OR_RECTIFY V.5.2" production system*
STANDARD_VERSION 1996 12 version of DOQ standard*
METADATA_DATE 1997 11 3 date created or changed, yyyy mm dd*
DATA_FILE_SIZE 50003310 data set size in bytes*
BYTE_COUNT 6510 header byte count* * * * * * * * * * * * * * * * * * * * * * * * * * * * * * * * * * * * * * *
END_USGS_HEADER *
