BEGIN_USGS_DOQ_HEADER *
QUADRANGLE_NAME "JOSHUA" 3.45 or 7.5-min. name*
QUADRANT NW quadrant indicator if cell size = 3.75-minutes*
WEST_LONGITUDE -115 30 0.000 signed deg min sec SDDD MM SS.SSS*
EAST_LONGITUDE -115 26 15.000 signed deg min sec SDDD MM SS.SSS*
NORTH_LATITUDE 35 22 30.000 signed deg min sec SDDD MM SS.SSS*
SOUTH_LATITUDE 35 18 45.000 signed deg min sec SDDD MM SS.SSS*
PRODUCTION_DATE 1997 3 4 yyyy mm dd*
RASTER_ORDER LEFT_RIGHT/TOP_BOTTOM video display order*
BAND_ORGANIZATION "SINGLE FILE" single file or BSQ, or BIL or BIP*
BAND_CONTENT BLACK&WHITE black&white or red green blue*
BITS_PER_PIXEL 8 radiometric resolution*
SAMPLES_AND_LINES 6480 7680 number of columns and rows*
HORIZONTAL_DATUM NAD83 primary horizontal datum*
HORIZONTAL_COORDINATE_SYSTEM UTM *
COORDINATE_ZONE 11 coordinate system zone number*
HORIZONTAL_UNITS METERS coordinate system units*
HORIZONTAL_RESOLUTION 1.00 pixel horiz. ground sample distance*
SECONDARY_HORIZONTAL_DATUM NAD27 secondary horizontal datum*
XY_ORIGIN 635880.000 3916080.000 coord. of upper left pixel pri. datum*
SECONDARY_XY_ORIGIN 635958.406 3915884.223 coord upper left pixel sec datum*
NATION US nation code*
STATE CA state fip code*
NW_QUAD_CORNER_XY 636255.260 3915663.125 XY coords. of pri. NW quad corner*
NE_QUAD_CORNER_XY 641933.021 3915750.992 XY coords. of pri. NE quad corner*
SE_QUAD_CORNER_XY 642042.409 3908818.726 XY coords. of pri. SE quad corner*
SW_QUAD_CORNER_XY 636360.270 3908730.926 XY coords. of pri. SW quad corner*
SECONDARY_NW_QUAD_XY 636258.443 3915464.469 XY coords. - sec. NW quad cor.*
SECONDARY_NE_QUAD_XY 641936.337 3915552.339 XY coords. - sec. NE quad cor.*
SECONDARY_SE_QUAD_XY 642045.722 3908620.256 XY coords. - sec. SE quad cor.*
SECONDARY_SW_QUAD_XY 636363.450 3908532.454 XY coords. - sec. SW quad cor.*
RMSE_XY 1.10 doq horiz. accuracy*
IMAGE_SOURCE "BLACK AND WHITE FILM" b&w, cir, natural color, other*
SOURCE_IMAGE_ID "NAPP 6807 127" source image id*
SOURCE_IMAGE_DATE 1994 5 23 source image date as yyyy mm dd*
SOURCE_DEM_DATE 1997 3 4 source dem date yyyy mm dd*
AGENCY "WESTERN MAPPING CENTER (WMC)" oversight agency*
PRODUCER "Analytical Surveys" producer/contractor*
PRODUCTION_SYSTEM "ORBIT OR_RECTIFY V.5.2" production system*
STANDARD_VERSION 1996 12 version of DOQ standard*
METADATA_DATE 1997 11 3 date created or changed, yyyy mm dd*
DATA_FILE_SIZE 49772880 data set size in bytes*
BYTE_COUNT 6480 header byte count* * * * * * * * * * * * * * * * * * * * * * * * * * * * * * * * * * * * * *
END_USGS_HEADER *
