BEGIN_USGS_DOQ_HEADER *
QUADRANGLE_NAME "COW COVE" 3.45 or 7.5-min. name*
QUADRANT SE quadrant indicator if cell size = 3.75-minutes*
WEST_LONGITUDE -115 41 15.000 signed deg min sec SDDD MM SS.SSS*
EAST_LONGITUDE -115 37 30.000 signed deg min sec SDDD MM SS.SSS*
NORTH_LATITUDE 35 18 45.000 signed deg min sec SDDD MM SS.SSS*
SOUTH_LATITUDE 35 15 0.000 signed deg min sec SDDD MM SS.SSS*
PRODUCTION_DATE 1997 3 14 yyyy mm dd*
RASTER_ORDER LEFT_RIGHT/TOP_BOTTOM video display order*
BAND_ORGANIZATION "SINGLE FILE" single file or BSQ, or BIL or BIP*
BAND_CONTENT BLACK&WHITE black&white or red green blue*
BITS_PER_PIXEL 8 radiometric resolution*
SAMPLES_AND_LINES 6480 7650 number of columns and rows*
HORIZONTAL_DATUM NAD83 primary horizontal datum*
HORIZONTAL_COORDINATE_SYSTEM UTM *
COORDINATE_ZONE 11 coordinate system zone number*
HORIZONTAL_UNITS METERS coordinate system units*
HORIZONTAL_RESOLUTION 1.00 pixel horiz. ground sample distance*
SECONDARY_HORIZONTAL_DATUM NAD27 secondary horizontal datum*
XY_ORIGIN 618930.000 3908880.000 coord. of upper left pixel pri. datum*
SECONDARY_XY_ORIGIN 619008.564 3908684.337 coord upper left pixel sec datum*
NATION US nation code*
STATE CA state fip code*
NW_QUAD_CORNER_XY 619314.167 3908489.041 XY coords. of pri. NW quad corner*
NE_QUAD_CORNER_XY 624996.151 3908566.084 XY coords. of pri. NE quad corner*
SE_QUAD_CORNER_XY 625092.255 3901634.079 XY coords. of pri. SE quad corner*
SW_QUAD_CORNER_XY 619405.901 3901557.096 XY coords. of pri. SW quad corner*
SECONDARY_NW_QUAD_XY 619316.950 3908290.564 XY coords. - sec. NW quad cor.*
SECONDARY_NE_QUAD_XY 624999.066 3908367.608 XY coords. - sec. NE quad cor.*
SECONDARY_SE_QUAD_XY 625095.168 3901435.788 XY coords. - sec. SE quad cor.*
SECONDARY_SW_QUAD_XY 619408.681 3901358.803 XY coords. - sec. SW quad cor.*
RMSE_XY 1.50 doq horiz. accuracy*
IMAGE_SOURCE "BLACK AND WHITE FILM" b&w, cir, natural color, other*
SOURCE_IMAGE_ID "NAPP 6819 014" source image id*
SOURCE_IMAGE_DATE 1994 6 5 source image date as yyyy mm dd*
SOURCE_DEM_DATE 1997 3 14 source dem date yyyy mm dd*
AGENCY "WESTERN MAPPING CENTER (WMC)" oversight agency*
PRODUCER "Analytical Surveys" producer/contractor*
PRODUCTION_SYSTEM "ORBIT OR_RECTIFY V.5.2" production system*
STANDARD_VERSION 1996 12 version of DOQ standard*
METADATA_DATE 1997 11 6 date created or changed, yyyy mm dd*
DATA_FILE_SIZE 49578480 data set size in bytes*
BYTE_COUNT 6480 header byte count* * * * * * * * * * * * * * * * * * * * * * * * * * * * * * * * * * * * * *
END_USGS_HEADER *
