BEGIN_USGS_DOQ_HEADER *
QUADRANGLE_NAME "CRESCENT PEAK" 3.45 or 7.5-min. name*
QUADRANT NW quadrant indicator if cell size = 3.75-minutes*
WEST_LONGITUDE -115 15 0.000 signed deg min sec SDDD MM SS.SSS*
EAST_LONGITUDE -115 11 15.000 signed deg min sec SDDD MM SS.SSS*
NORTH_LATITUDE 35 30 0.000 signed deg min sec SDDD MM SS.SSS*
SOUTH_LATITUDE 35 26 15.000 signed deg min sec SDDD MM SS.SSS*
PRODUCTION_DATE 1997 2 25 yyyy mm dd*
RASTER_ORDER LEFT_RIGHT/TOP_BOTTOM video display order*
BAND_ORGANIZATION "SINGLE FILE" single file or BSQ, or BIL or BIP*
BAND_CONTENT BLACK&WHITE black&white or red green blue*
BITS_PER_PIXEL 8 radiometric resolution*
SAMPLES_AND_LINES 6510 7680 number of columns and rows*
HORIZONTAL_DATUM NAD83 primary horizontal datum*
HORIZONTAL_COORDINATE_SYSTEM UTM *
COORDINATE_ZONE 11 coordinate system zone number*
HORIZONTAL_UNITS METERS coordinate system units*
HORIZONTAL_RESOLUTION 1.00 pixel horiz. ground sample distance*
SECONDARY_HORIZONTAL_DATUM NAD27 secondary horizontal datum*
XY_ORIGIN 658320.000 3930330.000 coord. of upper left pixel pri. datum*
SECONDARY_XY_ORIGIN 658398.107 3930133.811 coord upper left pixel sec datum*
NATION US nation code*
STATE CA state fip code*
STATE NV state fip code*
NW_QUAD_CORNER_XY 658721.029 3929901.296 XY coords. of pri. NW quad corner*
NE_QUAD_CORNER_XY 664390.248 3930003.677 XY coords. of pri. NE quad corner*
SE_QUAD_CORNER_XY 664517.547 3923070.985 XY coords. of pri. SE quad corner*
SW_QUAD_CORNER_XY 658843.935 3922968.681 XY coords. of pri. SW quad corner*
SECONDARY_NW_QUAD_XY 658724.750 3929702.284 XY coords. - sec. NW quad cor.*
SECONDARY_NE_QUAD_XY 664394.101 3929804.668 XY coords. - sec. NE quad cor.*
SECONDARY_SE_QUAD_XY 664521.397 3922872.157 XY coords. - sec. SE quad cor.*
SECONDARY_SW_QUAD_XY 658847.652 3922769.851 XY coords. - sec. SW quad cor.*
RMSE_XY 2.40 doq horiz. accuracy*
IMAGE_SOURCE "BLACK AND WHITE FILM" b&w, cir, natural color, other*
SOURCE_IMAGE_ID "NAPP 6807 058" source image id*
SOURCE_IMAGE_DATE 1994 5 23 source image date as yyyy mm dd*
SOURCE_DEM_DATE 1997 2 25 source dem date yyyy mm dd*
AGENCY "WESTERN MAPPING CENTER (WMC)" oversight agency*
PRODUCER "Analytical Surveys" producer/contractor*
PRODUCTION_SYSTEM "ORBIT OR_RECTIFY V.5.2" production system*
STANDARD_VERSION 1996 12 version of DOQ standard*
METADATA_DATE 1997 11 4 date created or changed, yyyy mm dd*
DATA_FILE_SIZE 50003310 data set size in bytes*
BYTE_COUNT 6510 header byte count* * * * * * * * * * * * * * * * * * * * * * * * * * * * * * * * * * * * * *
END_USGS_HEADER *
