BEGIN_USGS_DOQ_HEADER *
QUADRANGLE_NAME "MESCAL RANGE" 3.45 or 7.5-min. name*
QUADRANT NE quadrant indicator if cell size = 3.75-minutes*
WEST_LONGITUDE -115 33 45.000 signed deg min sec SDDD MM SS.SSS*
EAST_LONGITUDE -115 30 0.000 signed deg min sec SDDD MM SS.SSS*
NORTH_LATITUDE 35 30 0.000 signed deg min sec SDDD MM SS.SSS*
SOUTH_LATITUDE 35 26 15.000 signed deg min sec SDDD MM SS.SSS*
PRODUCTION_DATE 1997 2 25 yyyy mm dd*
RASTER_ORDER LEFT_RIGHT/TOP_BOTTOM video display order*
BAND_ORGANIZATION "SINGLE FILE" single file or BSQ, or BIL or BIP*
BAND_CONTENT BLACK&WHITE black&white or red green blue*
BITS_PER_PIXEL 8 radiometric resolution*
SAMPLES_AND_LINES 6480 7650 number of columns and rows*
HORIZONTAL_DATUM NAD83 primary horizontal datum*
HORIZONTAL_COORDINATE_SYSTEM UTM *
COORDINATE_ZONE 11 coordinate system zone number*
HORIZONTAL_UNITS METERS coordinate system units*
HORIZONTAL_RESOLUTION 1.00 pixel horiz. ground sample distance*
SECONDARY_HORIZONTAL_DATUM NAD27 secondary horizontal datum*
XY_ORIGIN 630000.000 3929850.000 coord. of upper left pixel pri. datum*
SECONDARY_XY_ORIGIN 630078.471 3929654.109 coord upper left pixel sec datum*
NATION US nation code*
STATE CA state fip code*
NW_QUAD_CORNER_XY 630375.823 3929443.317 XY coords. of pri. NW quad corner*
NE_QUAD_CORNER_XY 636044.754 3929527.723 XY coords. of pri. NE quad corner*
SE_QUAD_CORNER_XY 636150.088 3922595.391 XY coords. of pri. SE quad corner*
SW_QUAD_CORNER_XY 630476.766 3922511.048 XY coords. of pri. SW quad corner*
SECONDARY_NW_QUAD_XY 630378.879 3929244.294 XY coords. - sec. NW quad cor.*
SECONDARY_NE_QUAD_XY 636047.942 3929328.703 XY coords. - sec. NE quad cor.*
SECONDARY_SE_QUAD_XY 636153.274 3922396.552 XY coords. - sec. SE quad cor.*
SECONDARY_SW_QUAD_XY 630479.819 3922312.207 XY coords. - sec. SW quad cor.*
RMSE_XY 2.20 doq horiz. accuracy*
IMAGE_SOURCE "BLACK AND WHITE FILM" b&w, cir, natural color, other*
SOURCE_IMAGE_ID "NAPP 6807 154" source image id*
SOURCE_IMAGE_DATE 1994 5 23 source image date as yyyy mm dd*
SOURCE_DEM_DATE 1997 2 25 source dem date yyyy mm dd*
AGENCY "WESTERN MAPPING CENTER (WMC)" oversight agency*
PRODUCER "Analytical Surveys" producer/contractor*
PRODUCTION_SYSTEM "ORBIT OR_RECTIFY V.5.2" production system*
STANDARD_VERSION 1996 12 version of DOQ standard*
METADATA_DATE 1997 11 5 date created or changed, yyyy mm dd*
DATA_FILE_SIZE 49578480 data set size in bytes*
BYTE_COUNT 6480 header byte count* * * * * * * * * * * * * * * * * * * * * * * * * * * * * * * * * * * * * *
END_USGS_HEADER *
