BEGIN_USGS_DOQ_HEADER *
QUADRANGLE_NAME "HIGHLAND SPRING" *
QUADRANT NE *
WEST_LONGITUDE -115 3 45.0 *
EAST_LONGITUDE -115 0 0.0 *
NORTH_LATITUDE 35 37 30.0 *
SOUTH_LATITUDE 35 33 45.0 *
PRODUCTION_DATE 1998 11 6 *
RASTER_ORDER LEFT_RIGHT/TOP_BOTTOM *
BAND_ORGANIZATION "SINGLE FILE" *
BAND_CONTENT BLACK&WHITE *
BITS_PER_PIXEL 8 *
SAMPLES_AND_LINES 6481 7661 *
HORIZONTAL_DATUM NAD83 *
HORIZONTAL_COORDINATE_SYSTEM UTM *
COORDINATE_ZONE 11 *
HORIZONTAL_UNITS METERS *
HORIZONTAL_RESOLUTION 1.0 *
SECONDARY_HORIZONTAL_DATUM NAD27 *
XY_ORIGIN 675080.000 3944500.000 *
SECONDARY_XY_ORIGIN 675158.132 3944303.676 *
NATION US *
STATE NV *
NW_QUAD_CORNER_XY 675456.075 3944085.131 *
NE_QUAD_CORNER_XY 681116.682 3944198.471 *
SE_QUAD_CORNER_XY 681257.597 3937265.403 *
SW_QUAD_CORNER_XY 675592.582 3937152.148 *
SECONDARY_NW_QUAD_XY 675460.201 3943885.765 *
SECONDARY_NE_QUAD_XY 681120.941 3943999.107 *
SECONDARY_SE_QUAD_XY 681261.853 3937066.220 *
SECONDARY_SW_QUAD_XY 675596.704 3936952.962 *
RMSE_XY 2.213 *
IMAGE_SOURCE "Black and White film" *
SOURCE_IMAGE_ID "NAPP 7254-94" *
SOURCE_IMAGE_DATE 1994 06 03 *
SOURCE_IMAGE_ID "NAPP 7254-92" *
SOURCE_IMAGE_DATE 1994 06 03 *
SOURCE_DEM_DATE 1989 00 00 *
AGENCY "WESTERN MAPPING CENTER (WMC)" *
PRODUCER "Hammon, Jensen, Wallen & Associates" *
PRODUCTION_SYSTEM "ORTHOVIEW" *
STANDARD_VERSION 1996 12 *
METADATA_DATE 1998 11 6 *
DATA_FILE_SIZE 49657422 *
BYTE_COUNT 6481 * * * * * * * * * * * * * * * * * * * * * * * * * * * * * * * * * * * *
END_USGS_HEADER *
