BEGIN_USGS_DOQ_HEADER *
QUADRANGLE_NAME "HIGHLAND SPRING" *
QUADRANT SE *
WEST_LONGITUDE -115 3 45.0 *
EAST_LONGITUDE -115 0 0.0 *
NORTH_LATITUDE 35 33 45.0 *
SOUTH_LATITUDE 35 30 0.0 *
PRODUCTION_DATE 1998 11 6 *
RASTER_ORDER LEFT_RIGHT/TOP_BOTTOM *
BAND_ORGANIZATION "SINGLE FILE" *
BAND_CONTENT BLACK&WHITE *
BITS_PER_PIXEL 8 *
SAMPLES_AND_LINES 6491 7661 *
HORIZONTAL_DATUM NAD83 *
HORIZONTAL_COORDINATE_SYSTEM UTM *
COORDINATE_ZONE 11 *
HORIZONTAL_UNITS METERS *
HORIZONTAL_RESOLUTION 1.0 *
SECONDARY_HORIZONTAL_DATUM NAD27 *
XY_ORIGIN 675210.000 3937570.000 *
SECONDARY_XY_ORIGIN 675288.106 3937373.694 *
NATION US *
STATE NV *
NW_QUAD_CORNER_XY 675592.582 3937152.148 *
NE_QUAD_CORNER_XY 681257.597 3937265.403 *
SE_QUAD_CORNER_XY 681398.297 3930332.399 *
SW_QUAD_CORNER_XY 675728.879 3930219.228 *
SECONDARY_NW_QUAD_XY 675596.704 3936952.962 *
SECONDARY_NE_QUAD_XY 681261.853 3937066.220 *
SECONDARY_SE_QUAD_XY 681402.549 3930133.397 *
SECONDARY_SW_QUAD_XY 675732.998 3930020.224 *
RMSE_XY 1.596 *
IMAGE_SOURCE "Black and White film" *
SOURCE_IMAGE_ID "NAPP 7254-96" *
SOURCE_IMAGE_DATE 1994 06 03 *
SOURCE_IMAGE_ID "NAPP 7271-28" *
SOURCE_IMAGE_DATE 1994 09 13 *
SOURCE_DEM_DATE 1989 00 00 *
AGENCY "WESTERN MAPPING CENTER (WMC)" *
PRODUCER "Hammon, Jensen, Wallen & Associates" *
PRODUCTION_SYSTEM "ORTHOVIEW" *
STANDARD_VERSION 1996 12 *
METADATA_DATE 1998 11 6 *
DATA_FILE_SIZE 49734042 *
BYTE_COUNT 6491 * * * * * * * * * * * * * * * * * * * * * * * * * * * * * * * * * * * * *
END_USGS_HEADER *
