BEGIN_USGS_DOQ_HEADER *
QUADRANGLE_NAME "MCCULLOUGH MOUNTAIN" *
QUADRANT NE *
WEST_LONGITUDE -115 11 15.0 *
EAST_LONGITUDE -115 7 30.0 *
NORTH_LATITUDE 35 37 30.0 *
SOUTH_LATITUDE 35 33 45.0 *
PRODUCTION_DATE 1998 11 1 *
RASTER_ORDER LEFT_RIGHT/TOP_BOTTOM *
BAND_ORGANIZATION "SINGLE FILE" *
BAND_CONTENT BLACK&WHITE *
BITS_PER_PIXEL 8 *
SAMPLES_AND_LINES 6471 7651 *
HORIZONTAL_DATUM NAD83 *
HORIZONTAL_COORDINATE_SYSTEM UTM *
COORDINATE_ZONE 11 *
HORIZONTAL_UNITS METERS *
HORIZONTAL_RESOLUTION 1.0 *
SECONDARY_HORIZONTAL_DATUM NAD27 *
XY_ORIGIN 663760.000 3944280.000 *
SECONDARY_XY_ORIGIN 663838.132 3944083.740 *
NATION US *
STATE NV *
NW_QUAD_CORNER_XY 664135.062 3943869.257 *
NE_QUAD_CORNER_XY 669795.536 3943975.393 *
SE_QUAD_CORNER_XY 669927.634 3937042.492 *
SW_QUAD_CORNER_XY 664262.753 3936936.435 *
SECONDARY_NW_QUAD_XY 664138.922 3943669.886 *
SECONDARY_NE_QUAD_XY 669799.529 3943776.024 *
SECONDARY_SE_QUAD_XY 669931.624 3936843.303 *
SECONDARY_SW_QUAD_XY 664266.609 3936737.244 *
RMSE_XY 2.941 *
IMAGE_SOURCE "Black and White film" *
SOURCE_IMAGE_ID "NAPP 7257-82" *
SOURCE_IMAGE_DATE 1994 06 10 *
SOURCE_IMAGE_ID "NAPP 7257-84" *
SOURCE_IMAGE_DATE 1994 06 10 *
SOURCE_DEM_DATE 1989 00 00 *
AGENCY "WESTERN MAPPING CENTER (WMC)" *
PRODUCER "Hammon, Jensen, Wallen & Associates" *
PRODUCTION_SYSTEM "ORTHOVIEW" *
STANDARD_VERSION 1996 12 *
METADATA_DATE 1998 11 1 *
DATA_FILE_SIZE 49516092 *
BYTE_COUNT 6471 * * * * * * * * * * * * * * * * * * * * * * * * * * * * * * * * * * * *
END_USGS_HEADER *
