BEGIN_USGS_DOQ_HEADER *
QUADRANGLE_NAME "MCCULLOUGH MOUNTAIN" *
QUADRANT NW *
WEST_LONGITUDE -115 15 0.0 *
EAST_LONGITUDE -115 11 15.0 *
NORTH_LATITUDE 35 37 30.0 *
SOUTH_LATITUDE 35 33 45.0 *
PRODUCTION_DATE 1998 11 1 *
RASTER_ORDER LEFT_RIGHT/TOP_BOTTOM *
BAND_ORGANIZATION "SINGLE FILE" *
BAND_CONTENT BLACK&WHITE *
BITS_PER_PIXEL 8 *
SAMPLES_AND_LINES 6471 7641 *
HORIZONTAL_DATUM NAD83 *
HORIZONTAL_COORDINATE_SYSTEM UTM *
COORDINATE_ZONE 11 *
HORIZONTAL_UNITS METERS *
HORIZONTAL_RESOLUTION 1.0 *
SECONDARY_HORIZONTAL_DATUM NAD27 *
XY_ORIGIN 658100.000 3944170.000 *
SECONDARY_XY_ORIGIN 658178.137 3943973.772 *
NATION US *
STATE NV *
NW_QUAD_CORNER_XY 658474.651 3943766.723 *
NE_QUAD_CORNER_XY 664135.062 3943869.257 *
SE_QUAD_CORNER_XY 664262.753 3936936.435 *
SW_QUAD_CORNER_XY 658597.935 3936833.977 *
SECONDARY_NW_QUAD_XY 658478.378 3943567.349 *
SECONDARY_NE_QUAD_XY 664138.922 3943669.886 *
SECONDARY_SE_QUAD_XY 664266.609 3936737.244 *
SECONDARY_SW_QUAD_XY 658601.658 3936634.783 *
RMSE_XY 3.718 *
IMAGE_SOURCE "Black and White film" *
SOURCE_IMAGE_ID "NAPP 7257-89" *
SOURCE_IMAGE_DATE 1994 06 10 *
SOURCE_DEM_DATE 1989 00 00 *
AGENCY "WESTERN MAPPING CENTER (WMC)" *
PRODUCER "Hammon, Jensen, Wallen & Associates" *
PRODUCTION_SYSTEM "ORTHOVIEW" *
STANDARD_VERSION 1996 12 *
METADATA_DATE 1998 11 1 *
DATA_FILE_SIZE 49451382 *
BYTE_COUNT 6471 * * * * * * * * * * * * * * * * * * * * * * * * * * * * * * * * * * * * * *
END_USGS_HEADER *
