BEGIN_USGS_DOQ_HEADER *
QUADRANGLE_NAME "MCCULLOUGH MOUNTAIN" *
QUADRANT SW *
WEST_LONGITUDE -115 15 0.0 *
EAST_LONGITUDE -115 11 15.0 *
NORTH_LATITUDE 35 33 45.0 *
SOUTH_LATITUDE 35 30 0.0 *
PRODUCTION_DATE 1998 11 1 *
RASTER_ORDER LEFT_RIGHT/TOP_BOTTOM *
BAND_ORGANIZATION "SINGLE FILE" *
BAND_CONTENT BLACK&WHITE *
BITS_PER_PIXEL 8 *
SAMPLES_AND_LINES 6481 7651 *
HORIZONTAL_DATUM NAD83 *
HORIZONTAL_COORDINATE_SYSTEM UTM *
COORDINATE_ZONE 11 *
HORIZONTAL_UNITS METERS *
HORIZONTAL_RESOLUTION 1.0 *
SECONDARY_HORIZONTAL_DATUM NAD27 *
XY_ORIGIN 658220.000 3937240.000 *
SECONDARY_XY_ORIGIN 658298.123 3937043.793 *
NATION US *
STATE NV *
NW_QUAD_CORNER_XY 658597.935 3936833.977 *
NE_QUAD_CORNER_XY 664262.753 3936936.435 *
SE_QUAD_CORNER_XY 664390.248 3930003.677 *
SW_QUAD_CORNER_XY 658721.029 3929901.296 *
SECONDARY_NW_QUAD_XY 658601.658 3936634.783 *
SECONDARY_NE_QUAD_XY 664266.609 3936737.244 *
SECONDARY_SE_QUAD_XY 664394.101 3929804.668 *
SECONDARY_SW_QUAD_XY 658724.750 3929702.284 *
RMSE_XY 1.778 *
IMAGE_SOURCE "Black and White film" *
SOURCE_IMAGE_ID "NAPP 7257-87" *
SOURCE_IMAGE_DATE 1994 06 10 *
SOURCE_IMAGE_ID "NAPP 7257-89" *
SOURCE_IMAGE_DATE 1994 06 10 *
SOURCE_DEM_DATE 1989 00 00 *
AGENCY "WESTERN MAPPING CENTER (WMC)" *
PRODUCER "Hammon, Jensen, Wallen & Associates" *
PRODUCTION_SYSTEM "ORTHOVIEW" *
STANDARD_VERSION 1996 12 *
METADATA_DATE 1998 11 1 *
DATA_FILE_SIZE 49592612 *
BYTE_COUNT 6481 * * * * * * * * * * * * * * * * * * * * * * * * * * * * * * * * * * * *
END_USGS_HEADER *
