BEGIN_USGS_DOQ_HEADER *
QUADRANGLE_NAME "DESERT" 3.45 or 7.5-min. name*
QUADRANT SE quadrant indicator if cell size = 3.75-minutes*
WEST_LONGITUDE -115 18 45.000 signed deg min sec SDDD MM SS.SSS*
EAST_LONGITUDE -115 15 0.000 signed deg min sec SDDD MM SS.SSS*
NORTH_LATITUDE 35 33 45.000 signed deg min sec SDDD MM SS.SSS*
SOUTH_LATITUDE 35 30 0.000 signed deg min sec SDDD MM SS.SSS*
PRODUCTION_DATE 1997 2 26 yyyy mm dd*
RASTER_ORDER LEFT_RIGHT/TOP_BOTTOM video display order*
BAND_ORGANIZATION "SINGLE FILE" single file or BSQ, or BIL or BIP*
BAND_CONTENT BLACK&WHITE black&white or red green blue*
BITS_PER_PIXEL 8 radiometric resolution*
SAMPLES_AND_LINES 6510 7650 number of columns and rows*
HORIZONTAL_DATUM NAD83 primary horizontal datum*
HORIZONTAL_COORDINATE_SYSTEM UTM *
COORDINATE_ZONE 11 coordinate system zone number*
HORIZONTAL_UNITS METERS coordinate system units*
HORIZONTAL_RESOLUTION 1.00 pixel horiz. ground sample distance*
SECONDARY_HORIZONTAL_DATUM NAD27 secondary horizontal datum*
XY_ORIGIN 652530.000 3937140.000 coord. of upper left pixel pri. datum*
SECONDARY_XY_ORIGIN 652608.203 3936943.853 coord upper left pixel sec datum*
NATION US nation code*
STATE NV state fip code*
STATE CA state fip code*
NW_QUAD_CORNER_XY 652933.179 3936735.117 XY coords. of pri. NW quad corner*
NE_QUAD_CORNER_XY 658597.935 3936833.977 XY coords. of pri. NE quad corner*
SE_QUAD_CORNER_XY 658721.029 3929901.296 XY coords. of pri. SE quad corner*
SW_QUAD_CORNER_XY 653051.873 3929802.510 XY coords. of pri. SW quad corner*
SECONDARY_NW_QUAD_XY 652936.769 3936535.921 XY coords. - sec. NW quad cor.*
SECONDARY_NE_QUAD_XY 658601.658 3936634.783 XY coords. - sec. NE quad cor.*
SECONDARY_SE_QUAD_XY 658724.750 3929702.284 XY coords. - sec. SE quad cor.*
SECONDARY_SW_QUAD_XY 653055.460 3929603.496 XY coords. - sec. SW quad cor.*
RMSE_XY 1.40 doq horiz. accuracy*
IMAGE_SOURCE "BLACK AND WHITE FILM" b&w, cir, natural color, other*
SOURCE_IMAGE_ID "NAPP 6807 091" source image id*
SOURCE_IMAGE_DATE 1994 5 23 source image date as yyyy mm dd*
SOURCE_DEM_DATE 1997 2 26 source dem date yyyy mm dd*
AGENCY "WESTERN MAPPING CENTER (WMC)" oversight agency*
PRODUCER "Analytical Surveys" producer/contractor*
PRODUCTION_SYSTEM "ORBIT OR_RECTIFY V.5.2" production system*
STANDARD_VERSION 1996 12 version of DOQ standard*
METADATA_DATE 1997 11 5 date created or changed, yyyy mm dd*
DATA_FILE_SIZE 49808010 data set size in bytes*
BYTE_COUNT 6510 header byte count* * * * * * * * * * * * * * * * * * * * * * * * * * * * * * * * * * * * * *
END_USGS_HEADER *
