BEGIN_USGS_DOQ_HEADER *
QUADRANGLE_NAME "KINGSTON SPRING" 3.45 or 7.5-min. name*
QUADRANT SE quadrant indicator if cell size = 3.75-minutes*
WEST_LONGITUDE -115 56 15.000 signed deg min sec SDDD MM SS.SSS*
EAST_LONGITUDE -115 52 30.000 signed deg min sec SDDD MM SS.SSS*
NORTH_LATITUDE 35 33 45.000 signed deg min sec SDDD MM SS.SSS*
SOUTH_LATITUDE 35 30 0.000 signed deg min sec SDDD MM SS.SSS*
PRODUCTION_DATE 1997 2 19 yyyy mm dd*
RASTER_ORDER LEFT_RIGHT/TOP_BOTTOM video display order*
BAND_ORGANIZATION "SINGLE FILE" single file or BSQ, or BIL or BIP*
BAND_CONTENT BLACK&WHITE black&white or red green blue*
BITS_PER_PIXEL 8 radiometric resolution*
SAMPLES_AND_LINES 6450 7650 number of columns and rows*
HORIZONTAL_DATUM NAD83 primary horizontal datum*
HORIZONTAL_COORDINATE_SYSTEM UTM *
COORDINATE_ZONE 11 coordinate system zone number*
HORIZONTAL_UNITS METERS coordinate system units*
HORIZONTAL_RESOLUTION 1.00 pixel horiz. ground sample distance*
SECONDARY_HORIZONTAL_DATUM NAD27 secondary horizontal datum*
XY_ORIGIN 595890.000 3936330.000 coord. of upper left pixel pri. datum*
SECONDARY_XY_ORIGIN 595968.788 3936134.171 coord upper left pixel sec datum*
NATION US nation code*
STATE CA state fip code*
NW_QUAD_CORNER_XY 596288.519 3935944.354 XY coords. of pri. NW quad corner*
NE_QUAD_CORNER_XY 601952.780 3936007.248 XY coords. of pri. NE quad corner*
SE_QUAD_CORNER_XY 602031.891 3929075.188 XY coords. of pri. SE quad corner*
SW_QUAD_CORNER_XY 596363.233 3929012.341 XY coords. of pri. SW quad corner*
SECONDARY_NW_QUAD_XY 596290.779 3935745.139 XY coords. - sec. NW quad cor.*
SECONDARY_NE_QUAD_XY 601955.173 3935808.035 XY coords. - sec. NE quad cor.*
SECONDARY_SE_QUAD_XY 602034.282 3928876.157 XY coords. - sec. SE quad cor.*
SECONDARY_SW_QUAD_XY 596365.491 3928813.308 XY coords. - sec. SW quad cor.*
RMSE_XY 1.60 doq horiz. accuracy*
IMAGE_SOURCE "BLACK AND WHITE FILM" b&w, cir, natural color, other*
SOURCE_IMAGE_ID "NAPP 6814 061" source image id*
SOURCE_IMAGE_DATE 1994 5 27 source image date as yyyy mm dd*
SOURCE_DEM_DATE 1997 2 19 source dem date yyyy mm dd*
AGENCY "WESTERN MAPPING CENTER (WMC)" oversight agency*
PRODUCER "Analytical Surveys" producer/contractor*
PRODUCTION_SYSTEM "ORBIT OR_RECTIFY V.5.2" production system*
STANDARD_VERSION 1996 12 version of DOQ standard*
METADATA_DATE 1997 11 4 date created or changed, yyyy mm dd*
DATA_FILE_SIZE 49348950 data set size in bytes*
BYTE_COUNT 6450 header byte count* * * * * * * * * * * * * * * * * * * * * * * * * * * * * * * * * * * * * *
END_USGS_HEADER *
