BEGIN_USGS_DOQ_HEADER *
QUADRANGLE_NAME "MCCULLOUGH MOUNTAIN NE" *
QUADRANT NW *
WEST_LONGITUDE -115 7 30.0 *
EAST_LONGITUDE -115 3 45.0 *
NORTH_LATITUDE 35 45 0.0 *
SOUTH_LATITUDE 35 41 15.0 *
PRODUCTION_DATE 1998 11 6 *
RASTER_ORDER LEFT_RIGHT/TOP_BOTTOM *
BAND_ORGANIZATION "SINGLE FILE" *
BAND_CONTENT BLACK&WHITE *
BITS_PER_PIXEL 8 *
SAMPLES_AND_LINES 6471 7661 *
HORIZONTAL_DATUM NAD83 *
HORIZONTAL_COORDINATE_SYSTEM UTM *
COORDINATE_ZONE 11 *
HORIZONTAL_UNITS METERS *
HORIZONTAL_RESOLUTION 1.0 *
SECONDARY_HORIZONTAL_DATUM NAD27 *
XY_ORIGIN 669150.000 3958260.000 *
SECONDARY_XY_ORIGIN 669228.179 3958063.674 *
NATION US *
STATE NV *
NW_QUAD_CORNER_XY 669530.731 3957841.389 *
NE_QUAD_CORNER_XY 675182.433 3957951.289 *
SE_QUAD_CORNER_XY 675319.359 3951018.178 *
SW_QUAD_CORNER_XY 669663.234 3950908.359 *
SECONDARY_NW_QUAD_XY 669534.731 3957641.661 *
SECONDARY_NE_QUAD_XY 675186.567 3957751.564 *
SECONDARY_SE_QUAD_XY 675323.488 3950818.632 *
SECONDARY_SW_QUAD_XY 669667.231 3950708.810 *
RMSE_XY 0.990 *
IMAGE_SOURCE "Black and White film" *
SOURCE_IMAGE_ID "NAPP 7271-28" *
SOURCE_IMAGE_DATE 1994 09 13 *
SOURCE_IMAGE_ID "NAPP 7257-78" *
SOURCE_IMAGE_DATE 1994 06 10 *
SOURCE_DEM_DATE 1989 00 00 *
AGENCY "WESTERN MAPPING CENTER (WMC)" *
PRODUCER "Hammon, Jensen, Wallen & Associates" *
PRODUCTION_SYSTEM "ORTHOVIEW" *
STANDARD_VERSION 1996 12 *
METADATA_DATE 1998 11 6 *
DATA_FILE_SIZE 49580802 *
BYTE_COUNT 6471 * * * * * * * * * * * * * * * * * * * * * * * * * * * * * * * * * * * *
END_USGS_HEADER *
