BEGIN_USGS_DOQ_HEADER *
QUADRANGLE_NAME "MCCULLOUGH MOUNTAIN NE" *
QUADRANT SE *
WEST_LONGITUDE -115 3 45.0 *
EAST_LONGITUDE -115 0 0.0 *
NORTH_LATITUDE 35 41 15.0 *
SOUTH_LATITUDE 35 37 30.0 *
PRODUCTION_DATE 1998 11 6 *
RASTER_ORDER LEFT_RIGHT/TOP_BOTTOM *
BAND_ORGANIZATION "SINGLE FILE" *
BAND_CONTENT BLACK&WHITE *
BITS_PER_PIXEL 8 *
SAMPLES_AND_LINES 6481 7661 *
HORIZONTAL_DATUM NAD83 *
HORIZONTAL_COORDINATE_SYSTEM UTM *
COORDINATE_ZONE 11 *
HORIZONTAL_UNITS METERS *
HORIZONTAL_RESOLUTION 1.0 *
SECONDARY_HORIZONTAL_DATUM NAD27 *
XY_ORIGIN 674940.000 3951440.000 *
SECONDARY_XY_ORIGIN 675018.158 3951243.658 *
NATION US *
STATE NV *
NW_QUAD_CORNER_XY 675319.359 3951018.178 *
NE_QUAD_CORNER_XY 680975.550 3951131.602 *
SE_QUAD_CORNER_XY 681116.682 3944198.471 *
SW_QUAD_CORNER_XY 675456.075 3944085.131 *
SECONDARY_NW_QUAD_XY 675323.488 3950818.632 *
SECONDARY_NE_QUAD_XY 680979.813 3950932.058 *
SECONDARY_SE_QUAD_XY 681120.941 3943999.107 *
SECONDARY_SW_QUAD_XY 675460.201 3943885.765 *
RMSE_XY 1.312 *
IMAGE_SOURCE "Black and White film" *
SOURCE_IMAGE_ID "NAPP 7254-92" *
SOURCE_IMAGE_DATE 1994 06 03 *
SOURCE_IMAGE_ID "NAPP 7254-94" *
SOURCE_IMAGE_DATE 1994 06 03 *
SOURCE_IMAGE_ID "NAPP 7271-28" *
SOURCE_IMAGE_DATE 1994 09 13 *
SOURCE_DEM_DATE 1989 00 00 *
AGENCY "WESTERN MAPPING CENTER (WMC)" *
PRODUCER "Hammon, Jensen, Wallen & Associates" *
PRODUCTION_SYSTEM "ORTHOVIEW" *
STANDARD_VERSION 1996 12 *
METADATA_DATE 1998 11 6 *
DATA_FILE_SIZE 49657422 *
BYTE_COUNT 6481 * * * * * * * * * * * * * * * * * * * * * * * * * * * * * * * * * *
END_USGS_HEADER *
