BEGIN_USGS_DOQ_HEADER *
QUADRANGLE_NAME "MCCULLOUGH MOUNTAIN NE" *
QUADRANT SW *
WEST_LONGITUDE -115 7 30.0 *
EAST_LONGITUDE -115 3 45.0 *
NORTH_LATITUDE 35 41 15.0 *
SOUTH_LATITUDE 35 37 30.0 *
PRODUCTION_DATE 1998 11 6 *
RASTER_ORDER LEFT_RIGHT/TOP_BOTTOM *
BAND_ORGANIZATION "SINGLE FILE" *
BAND_CONTENT BLACK&WHITE *
BITS_PER_PIXEL 8 *
SAMPLES_AND_LINES 6481 7651 *
HORIZONTAL_DATUM NAD83 *
HORIZONTAL_COORDINATE_SYSTEM UTM *
COORDINATE_ZONE 11 *
HORIZONTAL_UNITS METERS *
HORIZONTAL_RESOLUTION 1.0 *
SECONDARY_HORIZONTAL_DATUM NAD27 *
XY_ORIGIN 669280.000 3951320.000 *
SECONDARY_XY_ORIGIN 669358.153 3951123.689 *
NATION US *
STATE NV *
NW_QUAD_CORNER_XY 669663.234 3950908.359 *
NE_QUAD_CORNER_XY 675319.359 3951018.178 *
SE_QUAD_CORNER_XY 675456.075 3944085.131 *
SW_QUAD_CORNER_XY 669795.536 3943975.393 *
SECONDARY_NW_QUAD_XY 669667.231 3950708.810 *
SECONDARY_NE_QUAD_XY 675323.488 3950818.632 *
SECONDARY_SE_QUAD_XY 675460.201 3943885.765 *
SECONDARY_SW_QUAD_XY 669799.529 3943776.024 *
RMSE_XY 1.651 *
IMAGE_SOURCE "Black and White film" *
SOURCE_IMAGE_ID "NAPP 7271-30" *
SOURCE_IMAGE_DATE 1994 09 13 *
SOURCE_DEM_DATE 1989 00 00 *
AGENCY "WESTERN MAPPING CENTER (WMC)" *
PRODUCER "Hammon, Jensen, Wallen & Associates" *
PRODUCTION_SYSTEM "ORTHOVIEW" *
STANDARD_VERSION 1996 12 *
METADATA_DATE 1998 11 6 *
DATA_FILE_SIZE 49592612 *
BYTE_COUNT 6481 * * * * * * * * * * * * * * * * * * * * * * * * * * * * * * * * * * * * * *
END_USGS_HEADER *
