BEGIN_USGS_DOQ_HEADER *
QUADRANGLE_NAME "MCCULLOUGH PASS" *
QUADRANT SE *
WEST_LONGITUDE -115 11 15.0 *
EAST_LONGITUDE -115 7 30.0 *
NORTH_LATITUDE 35 41 15.0 *
SOUTH_LATITUDE 35 37 30.0 *
PRODUCTION_DATE 1998 10 22 *
RASTER_ORDER LEFT_RIGHT/TOP_BOTTOM *
BAND_ORGANIZATION "SINGLE FILE" *
BAND_CONTENT BLACK&WHITE *
BITS_PER_PIXEL 8 *
SAMPLES_AND_LINES 6471 7651 *
HORIZONTAL_DATUM NAD83 *
HORIZONTAL_COORDINATE_SYSTEM UTM *
COORDINATE_ZONE 11 *
HORIZONTAL_UNITS METERS *
HORIZONTAL_RESOLUTION 1.0 *
SECONDARY_HORIZONTAL_DATUM NAD27 *
XY_ORIGIN 663630.000 3951210.000 *
SECONDARY_XY_ORIGIN 663708.149 3951013.720 *
NATION US *
STATE NV *
NW_QUAD_CORNER_XY 664007.175 3950802.144 *
NE_QUAD_CORNER_XY 669663.234 3950908.359 *
SE_QUAD_CORNER_XY 669795.536 3943975.393 *
SW_QUAD_CORNER_XY 664135.062 3943869.257 *
SECONDARY_NW_QUAD_XY 664011.038 3950602.593 *
SECONDARY_NE_QUAD_XY 669667.231 3950708.810 *
SECONDARY_SE_QUAD_XY 669799.529 3943776.024 *
SECONDARY_SW_QUAD_XY 664138.922 3943669.886 *
RMSE_XY 2.455 *
IMAGE_SOURCE "Black and White film" *
SOURCE_IMAGE_ID "NAPP 7257-80" *
SOURCE_IMAGE_DATE 1994 06 10 *
SOURCE_DEM_DATE 1998 00 00 *
AGENCY "WESTERN MAPPING CENTER (WMC)" *
PRODUCER "Hammon, Jensen, Wallen & Associates" *
PRODUCTION_SYSTEM "ORTHOVIEW" *
STANDARD_VERSION 1996 12 *
METADATA_DATE 1998 10 22 *
DATA_FILE_SIZE 49516092 *
BYTE_COUNT 6471 * * * * * * * * * * * * * * * * * * * * * * * * * * * * * * * * * * * * * *
END_USGS_HEADER *
