BEGIN_USGS_DOQ_HEADER *
QUADRANGLE_NAME "MCCULLOUGH PASS" *
QUADRANT SW *
WEST_LONGITUDE -115 15 0.0 *
EAST_LONGITUDE -115 11 15.0 *
NORTH_LATITUDE 35 41 15.0 *
SOUTH_LATITUDE 35 37 30.0 *
PRODUCTION_DATE 1998 10 22 *
RASTER_ORDER LEFT_RIGHT/TOP_BOTTOM *
BAND_ORGANIZATION "SINGLE FILE" *
BAND_CONTENT BLACK&WHITE *
BITS_PER_PIXEL 8 *
SAMPLES_AND_LINES 6471 7651 *
HORIZONTAL_DATUM NAD83 *
HORIZONTAL_COORDINATE_SYSTEM UTM *
COORDINATE_ZONE 11 *
HORIZONTAL_UNITS METERS *
HORIZONTAL_RESOLUTION 1.0 *
SECONDARY_HORIZONTAL_DATUM NAD27 *
XY_ORIGIN 657970.000 3951110.000 *
SECONDARY_XY_ORIGIN 658048.150 3950913.751 *
NATION US *
STATE NV *
NW_QUAD_CORNER_XY 658351.179 3950699.534 *
NE_QUAD_CORNER_XY 664007.175 3950802.144 *
SE_QUAD_CORNER_XY 664135.062 3943869.257 *
SW_QUAD_CORNER_XY 658474.651 3943766.723 *
SECONDARY_NW_QUAD_XY 658354.908 3950499.980 *
SECONDARY_NE_QUAD_XY 664011.038 3950602.593 *
SECONDARY_SE_QUAD_XY 664138.922 3943669.886 *
SECONDARY_SW_QUAD_XY 658478.378 3943567.349 *
RMSE_XY 3.866 *
IMAGE_SOURCE "Black and White film" *
SOURCE_IMAGE_ID "NAPP 7257-91" *
SOURCE_IMAGE_DATE 1994 06 10 *
SOURCE_DEM_DATE 1998 00 00 *
AGENCY "WESTERN MAPPING CENTER (WMC)" *
PRODUCER "Hammon, Jensen, Wallen & Associates" *
PRODUCTION_SYSTEM "ORTHOVIEW" *
STANDARD_VERSION 1996 12 *
METADATA_DATE 1998 10 22 *
DATA_FILE_SIZE 49516092 *
BYTE_COUNT 6471 * * * * * * * * * * * * * * * * * * * * * * * * * * * * * * * * * * * * * *
END_USGS_HEADER *
