BEGIN_USGS_DOQ_HEADER *
QUADRANGLE_NAME "ROACH" *
QUADRANT NW *
WEST_LONGITUDE -115 22 30.0 *
EAST_LONGITUDE -115 18 45.0 *
NORTH_LATITUDE 35 45 0.0 *
SOUTH_LATITUDE 35 41 15.0 *
PRODUCTION_DATE 1998 11 6 *
RASTER_ORDER LEFT_RIGHT/TOP_BOTTOM *
BAND_ORGANIZATION "SINGLE FILE" *
BAND_CONTENT BLACK&WHITE *
BITS_PER_PIXEL 8 *
SAMPLES_AND_LINES 6461 7641 *
HORIZONTAL_DATUM NAD83 *
HORIZONTAL_COORDINATE_SYSTEM UTM *
COORDINATE_ZONE 11 *
HORIZONTAL_UNITS METERS *
HORIZONTAL_RESOLUTION 1.0 *
SECONDARY_HORIZONTAL_DATUM NAD27 *
XY_ORIGIN 646540.000 3957840.000 *
SECONDARY_XY_ORIGIN 646618.361 3957643.766 *
NATION US *
STATE NV *
NW_QUAD_CORNER_XY 646924.544 3957437.857 *
NE_QUAD_CORNER_XY 652576.002 3957533.331 *
SE_QUAD_CORNER_XY 652695.243 3950600.527 *
SW_QUAD_CORNER_XY 647039.366 3950505.123 *
SECONDARY_NW_QUAD_XY 646928.011 3957238.120 *
SECONDARY_NE_QUAD_XY 652579.601 3957333.596 *
SECONDARY_SE_QUAD_XY 652698.839 3950400.971 *
SECONDARY_SW_QUAD_XY 647042.829 3950305.565 *
RMSE_XY 0.900 *
IMAGE_SOURCE "Black and White film" *
SOURCE_IMAGE_ID "NAPP 7257-152" *
SOURCE_IMAGE_DATE 1994 06 10 *
SOURCE_DEM_DATE 1998 00 00 *
AGENCY "WESTERN MAPPING CENTER (WMC)" *
PRODUCER "Hammon, Jensen, Wallen & Associates" *
PRODUCTION_SYSTEM "ORTHOVIEW" *
STANDARD_VERSION 1996 12 *
METADATA_DATE 1998 11 6 *
DATA_FILE_SIZE 49374962 *
BYTE_COUNT 6461 * * * * * * * * * * * * * * * * * * * * * * * * * * * * * * * * * * * * * *
END_USGS_HEADER *
