BEGIN_USGS_DOQ_HEADER *
QUADRANGLE_NAME "ROACH" *
QUADRANT SE *
WEST_LONGITUDE -115 18 45.0 *
EAST_LONGITUDE -115 15 0.0 *
NORTH_LATITUDE 35 41 15.0 *
SOUTH_LATITUDE 35 37 30.0 *
PRODUCTION_DATE 1998 11 6 *
RASTER_ORDER LEFT_RIGHT/TOP_BOTTOM *
BAND_ORGANIZATION "SINGLE FILE" *
BAND_CONTENT BLACK&WHITE *
BITS_PER_PIXEL 8 *
SAMPLES_AND_LINES 6461 7641 *
HORIZONTAL_DATUM NAD83 *
HORIZONTAL_COORDINATE_SYSTEM UTM *
COORDINATE_ZONE 11 *
HORIZONTAL_UNITS METERS *
HORIZONTAL_RESOLUTION 1.0 *
SECONDARY_HORIZONTAL_DATUM NAD27 *
XY_ORIGIN 652320.000 3951000.000 *
SECONDARY_XY_ORIGIN 652398.241 3950803.779 *
NATION US *
STATE NV *
NW_QUAD_CORNER_XY 652695.243 3950600.527 *
NE_QUAD_CORNER_XY 658351.179 3950699.534 *
SE_QUAD_CORNER_XY 658474.651 3943766.723 *
SW_QUAD_CORNER_XY 652814.302 3943667.789 *
SECONDARY_NW_QUAD_XY 652698.839 3950400.971 *
SECONDARY_NE_QUAD_XY 658354.908 3950499.980 *
SECONDARY_SE_QUAD_XY 658478.378 3943567.349 *
SECONDARY_SW_QUAD_XY 652817.895 3943468.413 *
RMSE_XY 1.495 *
IMAGE_SOURCE "Black and White film" *
SOURCE_IMAGE_ID "NAPP 7257-147" *
SOURCE_IMAGE_DATE 1994 06 10 *
SOURCE_DEM_DATE 1998 00 00 *
AGENCY "WESTERN MAPPING CENTER (WMC)" *
PRODUCER "Hammon, Jensen, Wallen & Associates" *
PRODUCTION_SYSTEM "ORTHOVIEW" *
STANDARD_VERSION 1996 12 *
METADATA_DATE 1998 11 6 *
DATA_FILE_SIZE 49374962 *
BYTE_COUNT 6461 * * * * * * * * * * * * * * * * * * * * * * * * * * * * * * * * * * * * * *
END_USGS_HEADER *
