BEGIN_USGS_DOQ_HEADER *
QUADRANGLE_NAME "STATE LINE PASS" 3.45 or 7.5-min. name*
QUADRANT NW quadrant indicator if cell size = 3.75-minutes*
WEST_LONGITUDE -115 30 0.000 signed deg min sec SDDD MM SS.SSS*
EAST_LONGITUDE -115 26 15.000 signed deg min sec SDDD MM SS.SSS*
NORTH_LATITUDE 35 45 0.000 signed deg min sec SDDD MM SS.SSS*
SOUTH_LATITUDE 35 41 15.000 signed deg min sec SDDD MM SS.SSS*
PRODUCTION_DATE 1997 2 27 yyyy mm dd*
RASTER_ORDER LEFT_RIGHT/TOP_BOTTOM video display order*
BAND_ORGANIZATION "SINGLE FILE" single file or BSQ, or BIL or BIP*
BAND_CONTENT BLACK&WHITE black&white or red green blue*
BITS_PER_PIXEL 8 radiometric resolution*
SAMPLES_AND_LINES 6480 7650 number of columns and rows*
HORIZONTAL_DATUM NAD83 primary horizontal datum*
HORIZONTAL_COORDINATE_SYSTEM UTM *
COORDINATE_ZONE 11 coordinate system zone number*
HORIZONTAL_UNITS METERS coordinate system units*
HORIZONTAL_RESOLUTION 1.00 pixel horiz. ground sample distance*
SECONDARY_HORIZONTAL_DATUM NAD27 secondary horizontal datum*
XY_ORIGIN 635220.000 3957660.000 coord. of upper left pixel pri. datum*
SECONDARY_XY_ORIGIN 635298.552 3957463.793 coord upper left pixel sec datum*
NATION US nation code*
STATE NV state fip code*
STATE CA state fip code*
NW_QUAD_CORNER_XY 635621.796 3957257.726 XY coords. of pri. NW quad corner*
NE_QUAD_CORNER_XY 641273.143 3957345.989 XY coords. of pri. NE quad corner*
SE_QUAD_CORNER_XY 641383.545 3950413.322 XY coords. of pri. SE quad corner*
SW_QUAD_CORNER_XY 635727.778 3950325.124 XY coords. of pri. SW quad corner*
SECONDARY_NW_QUAD_XY 635624.995 3957057.984 XY coords. - sec. NW quad cor.*
SECONDARY_NE_QUAD_XY 641276.476 3957146.249 XY coords. - sec. NE quad cor.*
SECONDARY_SE_QUAD_XY 641386.875 3950213.762 XY coords. - sec. SE quad cor.*
SECONDARY_SW_QUAD_XY 635730.975 3950125.562 XY coords. - sec. SW quad cor.*
RMSE_XY 3.60 doq horiz. accuracy*
IMAGE_SOURCE "BLACK AND WHITE FILM" b&w, cir, natural color, other*
SOURCE_IMAGE_ID "NAPP 6807 139" source image id*
SOURCE_IMAGE_DATE 1994 5 23 source image date as yyyy mm dd*
SOURCE_DEM_DATE 1997 2 27 source dem date yyyy mm dd*
AGENCY "WESTERN MAPPING CENTER (WMC)" oversight agency*
PRODUCER "Analytical Surveys" producer/contractor*
PRODUCTION_SYSTEM "ORBIT OR_RECTIFY V.5.2" production system*
STANDARD_VERSION 1996 12 version of DOQ standard*
METADATA_DATE 1997 11 5 date created or changed, yyyy mm dd*
DATA_FILE_SIZE 49578480 data set size in bytes*
BYTE_COUNT 6480 header byte count* * * * * * * * * * * * * * * * * * * * * * * * * * * * * * * * * * * * *
END_USGS_HEADER *
