BEGIN_USGS_DOQ_HEADER *
QUADRANGLE_NAME "MESQUITE LAKE" 3.45 or 7.5-min. name*
QUADRANT SW quadrant indicator if cell size = 3.75-minutes*
WEST_LONGITUDE -115 37 30.000 signed deg min sec SDDD MM SS.SSS*
EAST_LONGITUDE -115 33 45.000 signed deg min sec SDDD MM SS.SSS*
NORTH_LATITUDE 35 41 15.000 signed deg min sec SDDD MM SS.SSS*
SOUTH_LATITUDE 35 37 30.000 signed deg min sec SDDD MM SS.SSS*
PRODUCTION_DATE 1997 2 25 yyyy mm dd*
RASTER_ORDER LEFT_RIGHT/TOP_BOTTOM video display order*
BAND_ORGANIZATION "SINGLE FILE" single file or BSQ, or BIL or BIP*
BAND_CONTENT BLACK&WHITE black&white or red green blue*
BITS_PER_PIXEL 8 radiometric resolution*
SAMPLES_AND_LINES 6450 7650 number of columns and rows*
HORIZONTAL_DATUM NAD83 primary horizontal datum*
HORIZONTAL_COORDINATE_SYSTEM UTM *
COORDINATE_ZONE 11 coordinate system zone number*
HORIZONTAL_UNITS METERS coordinate system units*
HORIZONTAL_RESOLUTION 1.00 pixel horiz. ground sample distance*
SECONDARY_HORIZONTAL_DATUM NAD27 secondary horizontal datum*
XY_ORIGIN 624030.000 3950550.000 coord. of upper left pixel pri. datum*
SECONDARY_XY_ORIGIN 624108.630 3950353.958 coord upper left pixel sec datum*
NATION US nation code*
STATE CA state fip code*
NW_QUAD_CORNER_XY 624416.399 3950159.535 XY coords. of pri. NW quad corner*
NE_QUAD_CORNER_XY 630072.063 3950240.529 XY coords. of pri. NE quad corner*
SE_QUAD_CORNER_XY 630173.472 3943308.057 XY coords. of pri. SE quad corner*
SW_QUAD_CORNER_XY 624513.395 3943227.123 XY coords. of pri. SW quad corner*
SECONDARY_NW_QUAD_XY 624419.329 3949959.969 XY coords. - sec. NW quad cor.*
SECONDARY_NE_QUAD_XY 630075.127 3950040.964 XY coords. - sec. NE quad cor.*
SECONDARY_SE_QUAD_XY 630176.533 3943108.672 XY coords. - sec. SE quad cor.*
SECONDARY_SW_QUAD_XY 624516.323 3943027.737 XY coords. - sec. SW quad cor.*
RMSE_XY 2.30 doq horiz. accuracy*
IMAGE_SOURCE "BLACK AND WHITE FILM" b&w, cir, natural color, other*
SOURCE_IMAGE_ID "NAPP 6812 141" source image id*
SOURCE_IMAGE_DATE 1994 5 29 source image date as yyyy mm dd*
SOURCE_DEM_DATE 1997 2 25 source dem date yyyy mm dd*
AGENCY "WESTERN MAPPING CENTER (WMC)" oversight agency*
PRODUCER "Analytical Surveys" producer/contractor*
PRODUCTION_SYSTEM "ORBIT OR_RECTIFY V.5.2" production system*
STANDARD_VERSION 1996 12 version of DOQ standard*
METADATA_DATE 1997 11 5 date created or changed, yyyy mm dd*
DATA_FILE_SIZE 49348950 data set size in bytes*
BYTE_COUNT 6450 header byte count* * * * * * * * * * * * * * * * * * * * * * * * * * * * * * * * * * * * * *
END_USGS_HEADER *
