BEGIN_USGS_DOQ_HEADER *
QUADRANGLE_NAME "MESQUITE MOUNTAIN" 3.45 or 7.5-min. name*
QUADRANT NW quadrant indicator if cell size = 3.75-minutes*
WEST_LONGITUDE -115 45 0.000 signed deg min sec SDDD MM SS.SSS*
EAST_LONGITUDE -115 41 15.000 signed deg min sec SDDD MM SS.SSS*
NORTH_LATITUDE 35 45 0.000 signed deg min sec SDDD MM SS.SSS*
SOUTH_LATITUDE 35 41 15.000 signed deg min sec SDDD MM SS.SSS*
PRODUCTION_DATE 1997 2 19 yyyy mm dd*
RASTER_ORDER LEFT_RIGHT/TOP_BOTTOM video display order*
BAND_ORGANIZATION "SINGLE FILE" single file or BSQ, or BIL or BIP*
BAND_CONTENT BLACK&WHITE black&white or red green blue*
BITS_PER_PIXEL 8 radiometric resolution*
SAMPLES_AND_LINES 6450 7650 number of columns and rows*
HORIZONTAL_DATUM NAD83 primary horizontal datum*
HORIZONTAL_COORDINATE_SYSTEM UTM *
COORDINATE_ZONE 11 coordinate system zone number*
HORIZONTAL_UNITS METERS coordinate system units*
HORIZONTAL_RESOLUTION 1.00 pixel horiz. ground sample distance*
SECONDARY_HORIZONTAL_DATUM NAD27 secondary horizontal datum*
XY_ORIGIN 612630.000 3957330.000 coord. of upper left pixel pri. datum*
SECONDARY_XY_ORIGIN 612708.770 3957134.017 coord upper left pixel sec datum*
NATION US nation code*
STATE CA state fip code*
NW_QUAD_CORNER_XY 613016.900 3956940.721 XY coords. of pri. NW quad corner*
NE_QUAD_CORNER_XY 618668.054 3957014.566 XY coords. of pri. NE quad corner*
SE_QUAD_CORNER_XY 618760.781 3950082.143 XY coords. of pri. SE quad corner*
SW_QUAD_CORNER_XY 613105.210 3950008.353 XY coords. of pri. SW quad corner*
SECONDARY_NW_QUAD_XY 613019.566 3956740.972 XY coords. - sec. NW quad cor.*
SECONDARY_NE_QUAD_XY 618670.854 3956814.818 XY coords. - sec. NE quad cor.*
SECONDARY_SE_QUAD_XY 618763.578 3949882.575 XY coords. - sec. SE quad cor.*
SECONDARY_SW_QUAD_XY 613107.874 3949808.782 XY coords. - sec. SW quad cor.*
RMSE_XY 1.60 doq horiz. accuracy*
IMAGE_SOURCE "BLACK AND WHITE FILM" b&w, cir, natural color, other*
SOURCE_IMAGE_ID "NAPP 6812 161" source image id*
SOURCE_IMAGE_DATE 1994 5 29 source image date as yyyy mm dd*
SOURCE_DEM_DATE 1997 2 19 source dem date yyyy mm dd*
AGENCY "WESTERN MAPPING CENTER (WMC)" oversight agency*
PRODUCER "Analytical Surveys" producer/contractor*
PRODUCTION_SYSTEM "ORBIT OR_RECTIFY V.5.2" production system*
STANDARD_VERSION 1996 12 version of DOQ standard*
METADATA_DATE 1997 11 4 date created or changed, yyyy mm dd*
DATA_FILE_SIZE 49348950 data set size in bytes*
BYTE_COUNT 6450 header byte count* * * * * * * * * * * * * * * * * * * * * * * * * * * * * * * * * * * * * *
END_USGS_HEADER *
