BEGIN_USGS_DOQ_HEADER *
QUADRANGLE_NAME "EAST OF KINGSTON PEAK" 3.45 or 7.5-min. name*
QUADRANT NW quadrant indicator if cell size = 3.75-minutes*
WEST_LONGITUDE -115 52 30.000 signed deg min sec SDDD MM SS.SSS*
EAST_LONGITUDE -115 48 45.000 signed deg min sec SDDD MM SS.SSS*
NORTH_LATITUDE 35 45 0.000 signed deg min sec SDDD MM SS.SSS*
SOUTH_LATITUDE 35 41 15.000 signed deg min sec SDDD MM SS.SSS*
PRODUCTION_DATE 1997 2 19 yyyy mm dd*
RASTER_ORDER LEFT_RIGHT/TOP_BOTTOM video display order*
BAND_ORGANIZATION "SINGLE FILE" single file or BSQ, or BIL or BIP*
BAND_CONTENT BLACK&WHITE black&white or red green blue*
BITS_PER_PIXEL 8 radiometric resolution*
SAMPLES_AND_LINES 6450 7620 number of columns and rows*
HORIZONTAL_DATUM NAD83 primary horizontal datum*
HORIZONTAL_COORDINATE_SYSTEM UTM *
COORDINATE_ZONE 11 coordinate system zone number*
HORIZONTAL_UNITS METERS coordinate system units*
HORIZONTAL_RESOLUTION 1.00 pixel horiz. ground sample distance*
SECONDARY_HORIZONTAL_DATUM NAD27 secondary horizontal datum*
XY_ORIGIN 601320.000 3957180.000 coord. of upper left pixel pri. datum*
SECONDARY_XY_ORIGIN 601398.823 3956984.094 coord upper left pixel sec datum*
NATION US nation code*
STATE CA state fip code*
NW_QUAD_CORNER_XY 601714.719 3956803.842 XY coords. of pri. NW quad corner*
NE_QUAD_CORNER_XY 607365.789 3956870.480 XY coords. of pri. NE quad corner*
SE_QUAD_CORNER_XY 607449.681 3949938.163 XY coords. of pri. SE quad corner*
SW_QUAD_CORNER_XY 601794.194 3949871.575 XY coords. of pri. SW quad corner*
SECONDARY_NW_QUAD_XY 601717.119 3956604.090 XY coords. - sec. NW quad cor.*
SECONDARY_NE_QUAD_XY 607368.322 3956670.729 XY coords. - sec. NE quad cor.*
SECONDARY_SE_QUAD_XY 607452.212 3949738.592 XY coords. - sec. SE quad cor.*
SECONDARY_SW_QUAD_XY 601796.592 3949672.002 XY coords. - sec. SW quad cor.*
RMSE_XY 2.60 doq horiz. accuracy*
IMAGE_SOURCE "BLACK AND WHITE FILM" b&w, cir, natural color, other*
SOURCE_IMAGE_ID "NAPP 6814 044" source image id*
SOURCE_IMAGE_DATE 1994 5 27 source image date as yyyy mm dd*
SOURCE_DEM_DATE 1997 2 19 source dem date yyyy mm dd*
AGENCY "WESTERN MAPPING CENTER (WMC)" oversight agency*
PRODUCER "Analytical Surveys" producer/contractor*
PRODUCTION_SYSTEM "ORBIT OR_RECTIFY V.5.2" production system*
STANDARD_VERSION 1996 12 version of DOQ standard*
METADATA_DATE 1997 11 3 date created or changed, yyyy mm dd*
DATA_FILE_SIZE 49155450 data set size in bytes*
BYTE_COUNT 6450 header byte count* * * * * * * * * * * * * * * * * * * * * * * * * * * * * * * * * * * * * *
END_USGS_HEADER *
