BEGIN_USGS_DOQ_HEADER *
QUADRANGLE_NAME "KINGSTON PEAK" 3.45 or 7.5-min. name*
QUADRANT NW quadrant indicator if cell size = 3.75-minutes*
WEST_LONGITUDE -116 0 0.000 signed deg min sec SDDD MM SS.SSS*
EAST_LONGITUDE -115 56 15.000 signed deg min sec SDDD MM SS.SSS*
NORTH_LATITUDE 35 45 0.000 signed deg min sec SDDD MM SS.SSS*
SOUTH_LATITUDE 35 41 15.000 signed deg min sec SDDD MM SS.SSS*
PRODUCTION_DATE 1997 2 19 yyyy mm dd*
RASTER_ORDER LEFT_RIGHT/TOP_BOTTOM video display order*
BAND_ORGANIZATION "SINGLE FILE" single file or BSQ, or BIL or BIP*
BAND_CONTENT BLACK&WHITE black&white or red green blue*
BITS_PER_PIXEL 8 radiometric resolution*
SAMPLES_AND_LINES 6450 7620 number of columns and rows*
HORIZONTAL_DATUM NAD83 primary horizontal datum*
HORIZONTAL_COORDINATE_SYSTEM UTM *
COORDINATE_ZONE 11 coordinate system zone number*
HORIZONTAL_UNITS METERS coordinate system units*
HORIZONTAL_RESOLUTION 1.00 pixel horiz. ground sample distance*
SECONDARY_HORIZONTAL_DATUM NAD27 secondary horizontal datum*
XY_ORIGIN 590010.000 3957060.000 coord. of upper left pixel pri. datum*
SECONDARY_XY_ORIGIN 590088.879 3956864.170 coord upper left pixel sec datum*
NATION US nation code*
STATE CA state fip code*
NW_QUAD_CORNER_XY 590412.694 3956681.378 XY coords. of pri. NW quad corner*
NE_QUAD_CORNER_XY 596063.688 3956740.808 XY coords. of pri. NE quad corner*
SE_QUAD_CORNER_XY 596138.746 3949808.587 XY coords. of pri. SE quad corner*
SW_QUAD_CORNER_XY 590483.335 3949749.200 XY coords. of pri. SW quad corner*
SECONDARY_NW_QUAD_XY 590414.826 3956481.622 XY coords. - sec. NW quad cor.*
SECONDARY_NE_QUAD_XY 596065.954 3956541.055 XY coords. - sec. NE quad cor.*
SECONDARY_SE_QUAD_XY 596141.010 3949609.012 XY coords. - sec. SE quad cor.*
SECONDARY_SW_QUAD_XY 590485.466 3949549.624 XY coords. - sec. SW quad cor.*
RMSE_XY 2.90 doq horiz. accuracy*
IMAGE_SOURCE "BLACK AND WHITE FILM" b&w, cir, natural color, other*
SOURCE_IMAGE_ID "NAPP 6812 199" source image id*
SOURCE_IMAGE_DATE 1994 5 29 source image date as yyyy mm dd*
SOURCE_DEM_DATE 1997 2 19 source dem date yyyy mm dd*
AGENCY "WESTERN MAPPING CENTER (WMC)" oversight agency*
PRODUCER "Analytical Surveys" producer/contractor*
PRODUCTION_SYSTEM "ORBIT OR_RECTIFY V.5.2" production system*
STANDARD_VERSION 1996 12 version of DOQ standard*
METADATA_DATE 1997 11 3 date created or changed, yyyy mm dd*
DATA_FILE_SIZE 49155450 data set size in bytes*
BYTE_COUNT 6450 header byte count* * * * * * * * * * * * * * * * * * * * * * * * * * * * * * * * * * * * * *
END_USGS_HEADER *
