BEGIN_USGS_DOQ_HEADER *
QUADRANGLE_NAME "JEAN" *
QUADRANT NE *
WEST_LONGITUDE -115 18 45.0 *
EAST_LONGITUDE -115 15 0.0 *
NORTH_LATITUDE 35 52 30.0 *
SOUTH_LATITUDE 35 48 45.0 *
PRODUCTION_DATE 1998 11 6 *
RASTER_ORDER LEFT_RIGHT/TOP_BOTTOM *
BAND_ORGANIZATION "SINGLE FILE" *
BAND_CONTENT BLACK&WHITE *
BITS_PER_PIXEL 8 *
SAMPLES_AND_LINES 6451 7641 *
HORIZONTAL_DATUM NAD83 *
HORIZONTAL_COORDINATE_SYSTEM UTM *
COORDINATE_ZONE 11 *
HORIZONTAL_UNITS METERS *
HORIZONTAL_RESOLUTION 1.0 *
SECONDARY_HORIZONTAL_DATUM NAD27 *
XY_ORIGIN 651960.000 3971800.000 *
SECONDARY_XY_ORIGIN 652038.427 3971603.829 *
NATION US *
STATE NV *
NW_QUAD_CORNER_XY 652336.974 3971399.136 *
NE_QUAD_CORNER_XY 657979.628 3971498.360 *
SE_QUAD_CORNER_XY 658103.667 3964565.353 *
SW_QUAD_CORNER_XY 652456.579 3964466.201 *
SECONDARY_NW_QUAD_XY 652340.580 3971199.046 *
SECONDARY_NE_QUAD_XY 657983.368 3971298.272 *
SECONDARY_SE_QUAD_XY 658107.403 3964365.442 *
SECONDARY_SW_QUAD_XY 652460.181 3964266.287 *
RMSE_XY 1.156 *
IMAGE_SOURCE "Black and White film" *
SOURCE_IMAGE_ID "NAPP 7257-141" *
SOURCE_IMAGE_DATE 1994 06 10 *
SOURCE_IMAGE_ID "NAPP 7257-189" *
SOURCE_IMAGE_DATE 1994 06 10 *
SOURCE_DEM_DATE 1998 00 00 *
AGENCY "WESTERN MAPPING CENTER (WMC)" *
PRODUCER "Hammon, Jensen, Wallen & Associates" *
PRODUCTION_SYSTEM "ORTHOVIEW" *
STANDARD_VERSION 1996 12 *
METADATA_DATE 1998 11 6 *
DATA_FILE_SIZE 49298542 *
BYTE_COUNT 6451 * * * * * * * * * * * * * * * * * * * * * * * * * * * * * * * * * * * *
END_USGS_HEADER *
