BEGIN_USGS_DOQ_HEADER *
QUADRANGLE_NAME "JEAN" *
QUADRANT NW *
WEST_LONGITUDE -115 22 30.0 *
EAST_LONGITUDE -115 18 45.0 *
NORTH_LATITUDE 35 52 30.0 *
SOUTH_LATITUDE 35 48 45.0 *
PRODUCTION_DATE 1998 11 6 *
RASTER_ORDER LEFT_RIGHT/TOP_BOTTOM *
BAND_ORGANIZATION "SINGLE FILE" *
BAND_CONTENT BLACK&WHITE *
BITS_PER_PIXEL 8 *
SAMPLES_AND_LINES 6451 7641 *
HORIZONTAL_DATUM NAD83 *
HORIZONTAL_COORDINATE_SYSTEM UTM *
COORDINATE_ZONE 11 *
HORIZONTAL_UNITS METERS *
HORIZONTAL_RESOLUTION 1.0 *
SECONDARY_HORIZONTAL_DATUM NAD27 *
XY_ORIGIN 646310.000 3971700.000 *
SECONDARY_XY_ORIGIN 646388.506 3971503.840 *
NATION US *
STATE NV *
NW_QUAD_CORNER_XY 646694.377 3971303.524 *
NE_QUAD_CORNER_XY 652336.974 3971399.136 *
SE_QUAD_CORNER_XY 652456.579 3964466.201 *
SW_QUAD_CORNER_XY 646809.548 3964370.657 *
SECONDARY_NW_QUAD_XY 646697.849 3971103.431 *
SECONDARY_NE_QUAD_XY 652340.580 3971199.046 *
SECONDARY_SE_QUAD_XY 652460.181 3964266.287 *
SECONDARY_SW_QUAD_XY 646813.017 3964170.741 *
RMSE_XY 1.143 *
IMAGE_SOURCE "Black and White film" *
SOURCE_IMAGE_ID "NAPP 7257-156" *
SOURCE_IMAGE_DATE 1994 06 10 *
SOURCE_DEM_DATE 1998 00 00 *
AGENCY "WESTERN MAPPING CENTER (WMC)" *
PRODUCER "Hammon, Jensen, Wallen & Associates" *
PRODUCTION_SYSTEM "ORTHOVIEW" *
STANDARD_VERSION 1996 12 *
METADATA_DATE 1998 11 6 *
DATA_FILE_SIZE 49298542 *
BYTE_COUNT 6451 * * * * * * * * * * * * * * * * * * * * * * * * * * * * * * * * * * * * * *
END_USGS_HEADER *
