BEGIN_USGS_DOQ_HEADER *
QUADRANGLE_NAME "JEAN" *
QUADRANT SE *
WEST_LONGITUDE -115 18 45.0 *
EAST_LONGITUDE -115 15 0.0 *
NORTH_LATITUDE 35 48 45.0 *
SOUTH_LATITUDE 35 45 0.0 *
PRODUCTION_DATE 1998 11 6 *
RASTER_ORDER LEFT_RIGHT/TOP_BOTTOM *
BAND_ORGANIZATION "SINGLE FILE" *
BAND_CONTENT BLACK&WHITE *
BITS_PER_PIXEL 8 *
SAMPLES_AND_LINES 6451 7651 *
HORIZONTAL_DATUM NAD83 *
HORIZONTAL_COORDINATE_SYSTEM UTM *
COORDINATE_ZONE 11 *
HORIZONTAL_UNITS METERS *
HORIZONTAL_RESOLUTION 1.0 *
SECONDARY_HORIZONTAL_DATUM NAD27 *
XY_ORIGIN 652080.000 3964870.000 *
SECONDARY_XY_ORIGIN 652158.345 3964673.789 *
NATION US *
STATE NV *
NW_QUAD_CORNER_XY 652456.579 3964466.201 *
NE_QUAD_CORNER_XY 658103.667 3964565.353 *
SE_QUAD_CORNER_XY 658227.517 3957632.411 *
SW_QUAD_CORNER_XY 652576.002 3957533.331 *
SECONDARY_NW_QUAD_XY 652460.181 3964266.287 *
SECONDARY_NE_QUAD_XY 658107.403 3964365.442 *
SECONDARY_SE_QUAD_XY 658231.250 3957432.678 *
SECONDARY_SW_QUAD_XY 652579.601 3957333.596 *
RMSE_XY 1.334 *
IMAGE_SOURCE "Black and White film" *
SOURCE_IMAGE_ID "NAPP 7257-143" *
SOURCE_IMAGE_DATE 1994 06 10 *
SOURCE_IMAGE_ID "NAPP 7257-145" *
SOURCE_IMAGE_DATE 1994 06 10 *
SOURCE_DEM_DATE 1998 00 00 *
AGENCY "WESTERN MAPPING CENTER (WMC)" *
PRODUCER "Hammon, Jensen, Wallen & Associates" *
PRODUCTION_SYSTEM "ORTHOVIEW" *
STANDARD_VERSION 1996 12 *
METADATA_DATE 1998 11 6 *
DATA_FILE_SIZE 49363052 *
BYTE_COUNT 6451 * * * * * * * * * * * * * * * * * * * * * * * * * * * * * * * * * * * *
END_USGS_HEADER *
