BEGIN_USGS_DOQ_HEADER *
QUADRANGLE_NAME "GOODSPRINGS" *
QUADRANT NE *
WEST_LONGITUDE -115 26 15.0 *
EAST_LONGITUDE -115 22 30.0 *
NORTH_LATITUDE 35 52 30.0 *
SOUTH_LATITUDE 35 48 45.0 *
PRODUCTION_DATE 1998 11 6 *
RASTER_ORDER LEFT_RIGHT/TOP_BOTTOM *
BAND_ORGANIZATION "SINGLE FILE" *
BAND_CONTENT BLACK&WHITE *
BITS_PER_PIXEL 8 *
SAMPLES_AND_LINES 6441 7641 *
HORIZONTAL_DATUM NAD83 *
HORIZONTAL_COORDINATE_SYSTEM UTM *
COORDINATE_ZONE 11 *
HORIZONTAL_UNITS METERS *
HORIZONTAL_RESOLUTION 1.0 *
SECONDARY_HORIZONTAL_DATUM NAD27 *
XY_ORIGIN 640670.000 3971610.000 *
SECONDARY_XY_ORIGIN 640748.585 3971413.850 *
NATION US *
STATE NV *
NW_QUAD_CORNER_XY 641051.835 3971211.522 *
NE_QUAD_CORNER_XY 646694.377 3971303.524 *
SE_QUAD_CORNER_XY 646809.548 3964370.657 *
SW_QUAD_CORNER_XY 641162.573 3964278.722 *
SECONDARY_NW_QUAD_XY 641055.173 3971011.426 *
SECONDARY_NE_QUAD_XY 646697.849 3971103.431 *
SECONDARY_SE_QUAD_XY 646813.017 3964170.741 *
SECONDARY_SW_QUAD_XY 641165.909 3964078.804 *
RMSE_XY 1.507 *
IMAGE_SOURCE "Black and White film" *
SOURCE_IMAGE_ID "NAPP 7257-191" *
SOURCE_IMAGE_DATE 1994 06 10 *
SOURCE_IMAGE_ID "NAPP 7257-189" *
SOURCE_IMAGE_DATE 1994 06 10 *
SOURCE_DEM_DATE 1998 00 00 *
AGENCY "WESTERN MAPPING CENTER (WMC)" *
PRODUCER "Hammon, Jensen, Wallen & Associates" *
PRODUCTION_SYSTEM "ORTHOVIEW" *
STANDARD_VERSION 1996 12 *
METADATA_DATE 1998 11 6 *
DATA_FILE_SIZE 49222122 *
BYTE_COUNT 6441 * * * * * * * * * * * * * * * * * * * * * * * * * * * * * * * * * * * *
END_USGS_HEADER *
