BEGIN_USGS_DOQ_HEADER *
QUADRANGLE_NAME "GOODSPRINGS" *
QUADRANT NW *
WEST_LONGITUDE -115 30 0.0 *
EAST_LONGITUDE -115 26 15.0 *
NORTH_LATITUDE 35 52 30.0 *
SOUTH_LATITUDE 35 48 45.0 *
PRODUCTION_DATE 1998 11 6 *
RASTER_ORDER LEFT_RIGHT/TOP_BOTTOM *
BAND_ORGANIZATION "SINGLE FILE" *
BAND_CONTENT BLACK&WHITE *
BITS_PER_PIXEL 8 *
SAMPLES_AND_LINES 6441 7641 *
HORIZONTAL_DATUM NAD83 *
HORIZONTAL_COORDINATE_SYSTEM UTM *
COORDINATE_ZONE 11 *
HORIZONTAL_UNITS METERS *
HORIZONTAL_RESOLUTION 1.0 *
SECONDARY_HORIZONTAL_DATUM NAD27 *
XY_ORIGIN 635030.000 3971520.000 *
SECONDARY_XY_ORIGIN 635108.664 3971323.863 *
NATION US *
STATE NV *
NW_QUAD_CORNER_XY 635409.345 3971123.130 *
NE_QUAD_CORNER_XY 641051.835 3971211.522 *
SE_QUAD_CORNER_XY 641162.573 3964278.722 *
SW_QUAD_CORNER_XY 635515.651 3964190.394 *
SECONDARY_NW_QUAD_XY 635412.550 3970923.033 *
SECONDARY_NE_QUAD_XY 641055.173 3971011.426 *
SECONDARY_SE_QUAD_XY 641165.909 3964078.804 *
SECONDARY_SW_QUAD_XY 635518.854 3963990.474 *
RMSE_XY 2.018 *
IMAGE_SOURCE "Black and White film" *
SOURCE_IMAGE_ID "NAPP 7257-198" *
SOURCE_IMAGE_DATE 1994 06 10 *
SOURCE_IMAGE_ID "NAPP 7257-196" *
SOURCE_IMAGE_DATE 1994 06 10 *
SOURCE_IMAGE_ID "NAPP 7257-200" *
SOURCE_IMAGE_DATE 1994 06 10 *
SOURCE_DEM_DATE 1998 00 00 *
AGENCY "WESTERN MAPPING CENTER (WMC)" *
PRODUCER "Hammon, Jensen, Wallen & Associates" *
PRODUCTION_SYSTEM "ORTHOVIEW" *
STANDARD_VERSION 1996 12 *
METADATA_DATE 1998 11 6 *
DATA_FILE_SIZE 49222122 *
BYTE_COUNT 6441 * * * * * * * * * * * * * * * * * * * * * * * * * * * * * * * * * *
END_USGS_HEADER *
