BEGIN_USGS_DOQ_HEADER *
QUADRANGLE_NAME "GOODSPRINGS" *
QUADRANT SE *
WEST_LONGITUDE -115 26 15.0 *
EAST_LONGITUDE -115 22 30.0 *
NORTH_LATITUDE 35 48 45.0 *
SOUTH_LATITUDE 35 45 0.0 *
PRODUCTION_DATE 1998 11 6 *
RASTER_ORDER LEFT_RIGHT/TOP_BOTTOM *
BAND_ORGANIZATION "SINGLE FILE" *
BAND_CONTENT BLACK&WHITE *
BITS_PER_PIXEL 8 *
SAMPLES_AND_LINES 6451 7641 *
HORIZONTAL_DATUM NAD83 *
HORIZONTAL_COORDINATE_SYSTEM UTM *
COORDINATE_ZONE 11 *
HORIZONTAL_UNITS METERS *
HORIZONTAL_RESOLUTION 1.0 *
SECONDARY_HORIZONTAL_DATUM NAD27 *
XY_ORIGIN 640780.000 3964680.000 *
SECONDARY_XY_ORIGIN 640858.522 3964483.815 *
NATION US *
STATE NV *
NW_QUAD_CORNER_XY 641162.573 3964278.722 *
NE_QUAD_CORNER_XY 646809.548 3964370.657 *
SE_QUAD_CORNER_XY 646924.544 3957437.857 *
SW_QUAD_CORNER_XY 641273.143 3957345.989 *
SECONDARY_NW_QUAD_XY 641165.909 3964078.804 *
SECONDARY_NE_QUAD_XY 646813.017 3964170.741 *
SECONDARY_SE_QUAD_XY 646928.011 3957238.120 *
SECONDARY_SW_QUAD_XY 641276.476 3957146.249 *
RMSE_XY 2.104 *
IMAGE_SOURCE "Black and White film" *
SOURCE_IMAGE_ID "NAPP 7257-193" *
SOURCE_IMAGE_DATE 1994 06 10 *
SOURCE_DEM_DATE 1998 00 00 *
AGENCY "WESTERN MAPPING CENTER (WMC)" *
PRODUCER "Hammon, Jensen, Wallen & Associates" *
PRODUCTION_SYSTEM "ORTHOVIEW" *
STANDARD_VERSION 1996 12 *
METADATA_DATE 1998 11 6 *
DATA_FILE_SIZE 49298542 *
BYTE_COUNT 6451 * * * * * * * * * * * * * * * * * * * * * * * * * * * * * * * * * * * * * *
END_USGS_HEADER *
