BEGIN_USGS_DOQ_HEADER *
QUADRANGLE_NAME "BLACKWATER MINE" 3.45 or 7.5-min. name*
QUADRANT NE quadrant indicator if cell size = 3.75-minutes*
WEST_LONGITUDE -115 48 45.000 signed deg min sec SDDD MM SS.SSS*
EAST_LONGITUDE -115 45 0.000 signed deg min sec SDDD MM SS.SSS*
NORTH_LATITUDE 35 52 30.000 signed deg min sec SDDD MM SS.SSS*
SOUTH_LATITUDE 35 48 45.000 signed deg min sec SDDD MM SS.SSS*
PRODUCTION_DATE 1997 2 20 yyyy mm dd*
RASTER_ORDER LEFT_RIGHT/TOP_BOTTOM video display order*
BAND_ORGANIZATION "SINGLE FILE" single file or BSQ, or BIL or BIP*
BAND_CONTENT BLACK&WHITE black&white or red green blue*
BITS_PER_PIXEL 8 radiometric resolution*
SAMPLES_AND_LINES 6420 7650 number of columns and rows*
HORIZONTAL_DATUM NAD83 primary horizontal datum*
HORIZONTAL_COORDINATE_SYSTEM UTM *
COORDINATE_ZONE 11 coordinate system zone number*
HORIZONTAL_UNITS METERS coordinate system units*
HORIZONTAL_RESOLUTION 1.00 pixel horiz. ground sample distance*
SECONDARY_HORIZONTAL_DATUM NAD27 secondary horizontal datum*
XY_ORIGIN 606810.000 3971130.000 coord. of upper left pixel pri. datum*
SECONDARY_XY_ORIGIN 606888.910 3970934.060 coord upper left pixel sec datum*
NATION US nation code*
STATE CA state fip code*
NW_QUAD_CORNER_XY 607197.621 3970735.320 XY coords. of pri. NW quad corner*
NE_QUAD_CORNER_XY 612839.877 3970805.664 XY coords. of pri. NE quad corner*
SE_QUAD_CORNER_XY 612928.456 3963873.158 XY coords. of pri. SE quad corner*
SW_QUAD_CORNER_XY 607281.769 3963802.865 XY coords. of pri. SW quad corner*
SECONDARY_NW_QUAD_XY 607200.158 3970535.214 XY coords. - sec. NW quad cor.*
SECONDARY_NE_QUAD_XY 612842.547 3970605.559 XY coords. - sec. NE quad cor.*
SECONDARY_SE_QUAD_XY 612931.124 3963673.230 XY coords. - sec. SE quad cor.*
SECONDARY_SW_QUAD_XY 607284.304 3963602.936 XY coords. - sec. SW quad cor.*
RMSE_XY 1.80 doq horiz. accuracy*
IMAGE_SOURCE "BLACK AND WHITE FILM" b&w, cir, natural color, other*
SOURCE_IMAGE_ID "NAPP 6825 309" source image id*
SOURCE_IMAGE_DATE 1995 10 4 source image date as yyyy mm dd*
SOURCE_DEM_DATE 1997 2 20 source dem date yyyy mm dd*
AGENCY "WESTERN MAPPING CENTER (WMC)" oversight agency*
PRODUCER "Analytical Surveys" producer/contractor*
PRODUCTION_SYSTEM "ORBIT OR_RECTIFY V.5.2" production system*
STANDARD_VERSION 1996 12 version of DOQ standard*
METADATA_DATE 1997 11 4 date created or changed, yyyy mm dd*
DATA_FILE_SIZE 49119420 data set size in bytes*
BYTE_COUNT 6420 header byte count* * * * * * * * * * * * * * * * * * * * * * * * * * * * * * * * * * * * * *
END_USGS_HEADER *
