BEGIN_USGS_DOQ_HEADER *
QUADRANGLE_NAME "BIRD SPRING" *
QUADRANT SW *
WEST_LONGITUDE -115 22 30.0 *
EAST_LONGITUDE -115 18 45.0 *
NORTH_LATITUDE 35 56 15.0 *
SOUTH_LATITUDE 35 52 30.0 *
PRODUCTION_DATE 1998 11 6 *
RASTER_ORDER LEFT_RIGHT/TOP_BOTTOM *
BAND_ORGANIZATION "SINGLE FILE" *
BAND_CONTENT BLACK&WHITE *
BITS_PER_PIXEL 8 *
SAMPLES_AND_LINES 6441 7651 *
HORIZONTAL_DATUM NAD83 *
HORIZONTAL_COORDINATE_SYSTEM UTM *
COORDINATE_ZONE 11 *
HORIZONTAL_UNITS METERS *
HORIZONTAL_RESOLUTION 1.0 *
SECONDARY_HORIZONTAL_DATUM NAD27 *
XY_ORIGIN 646200.000 3978640.000 *
SECONDARY_XY_ORIGIN 646278.578 3978443.878 *
NATION US *
STATE NV *
NW_QUAD_CORNER_XY 646579.030 3978236.457 *
NE_QUAD_CORNER_XY 652217.187 3978332.138 *
SE_QUAD_CORNER_XY 652336.974 3971399.136 *
SW_QUAD_CORNER_XY 646694.377 3971303.524 *
SECONDARY_NW_QUAD_XY 646582.505 3978036.187 *
SECONDARY_NE_QUAD_XY 652220.796 3978131.871 *
SECONDARY_SE_QUAD_XY 652340.580 3971199.046 *
SECONDARY_SW_QUAD_XY 646697.849 3971103.431 *
RMSE_XY 4.378 *
IMAGE_SOURCE "Black and White film" *
SOURCE_IMAGE_ID "NAPP 7257-158" *
SOURCE_IMAGE_DATE 1994 06 10 *
SOURCE_IMAGE_ID "NAPP 7257-189" *
SOURCE_IMAGE_DATE 1994 06 10 *
SOURCE_DEM_DATE 1998 00 00 *
AGENCY "WESTERN MAPPING CENTER (WMC)" *
PRODUCER "Hammon, Jensen, Wallen & Associates" *
PRODUCTION_SYSTEM "ORTHOVIEW" *
STANDARD_VERSION 1996 12 *
METADATA_DATE 1998 11 6 *
DATA_FILE_SIZE 49286532 *
BYTE_COUNT 6441 * * * * * * * * * * * * * * * * * * * * * * * * * * * * * * * * * * * *
END_USGS_HEADER *
