BEGIN_USGS_DOQ_HEADER *
QUADRANGLE_NAME "COTTONWOOD PASS" *
QUADRANT NE *
WEST_LONGITUDE -115 26 15.000 *
EAST_LONGITUDE -115 22 30.000 *
NORTH_LATITUDE 36 0 0.000 *
SOUTH_LATITUDE 35 56 15.000 *
PRODUCTION_DATE 2003 2 18 *
RASTER_ORDER LEFT_RIGHT/TOP_BOTTOM *
BAND_ORGANIZATION "SINGLE FILE" *
BAND_CONTENT BLACK&WHITE *
BITS_PER_PIXEL 8 *
SAMPLES_AND_LINES 6425 7627 *
HORIZONTAL_DATUM NAD83 *
HORIZONTAL_COORDINATE_SYSTEM UTM *
COORDINATE_ZONE 11 *
HORIZONTAL_UNITS METERS *
HORIZONTAL_RESOLUTION 1.0 *
SECONDARY_HORIZONTAL_DATUM NAD27 *
XY_ORIGIN 640454.390 3985471.310 *
SECONDARY_XY_ORIGIN 640533.107 3985275.231 *
NATION US *
STATE NV *
NW_QUAD_CORNER_XY 640829.853 3985077.322 *
NE_QUAD_CORNER_XY 646463.509 3985169.456 *
SE_QUAD_CORNER_XY 646579.030 3978236.456 *
SW_QUAD_CORNER_XY 640940.928 3978144.388 *
SECONDARY_NW_QUAD_XY 640833.200 3984876.875 *
SECONDARY_NE_QUAD_XY 646466.990 3984969.011 *
SECONDARY_SE_QUAD_XY 646582.508 3978036.188 *
SECONDARY_SW_QUAD_XY 640944.272 3977944.117 *
RMSE_XY 1.00 *
IMAGE_SOURCE "BLACK AND WHITE FILM" *
SOURCE_IMAGE_ID "NAPP 11624 164" *
SOURCE_IMAGE_DATE 1999 9 26 *
SOURCE_IMAGE_ID "NAPP 11624 163" *
SOURCE_IMAGE_DATE 1999 9 26 *
SOURCE_IMAGE_ID "NAPP 11624 165" *
SOURCE_IMAGE_DATE 1999 9 26 *
SOURCE_IMAGE_ID "NAPP 11624 184" *
SOURCE_IMAGE_DATE 1999 9 26 *
SOURCE_IMAGE_ID "NAPP 11624 183" *
SOURCE_IMAGE_DATE 1999 9 26 *
SOURCE_IMAGE_ID "NAPP 11624 182" *
SOURCE_IMAGE_DATE 1999 9 26 *
SOURCE_DEM_DATE 2003 1 1 *
AGENCY "WESTERN MAPPING CENTER (WMC)" *
PRODUCER "USDA FS GEOSPATIAL SERVICE AND TECHNOLOGY CENTER" *
PRODUCTION_SYSTEM "ORBIT OR_RECTIFY V.5.2" *
STANDARD_VERSION 1996 12 *
METADATA_DATE 2003 2 18 *
DATA_FILE_SIZE 49009900 *
BYTE_COUNT 6425 * * * * * * * * * * * * * * * * * * * * * * * * * * * *
END_USGS_HEADER *
